{
 "extent": {
  "ymin": 3004833.2622999996,
  "xmin": -10897323.493799999,
  "ymax": 3496335.2622999996,
  "xmax": -10533533.493799999,
  "spatialReference": {
   "latestWkid": 3857,
   "wkid": 102100
  }
 },
 "blockWidth": 2048,
 "mosaicOperator": "First",
 "serviceSourceType": "esriImageServiceSourceTypeMosaicDataset",
 "hasMultidimensions": false,
 "maxImageWidth": 15000,
 "maxRecordCount": 1000,
 "meanValues": [
  -2.2150001342852264
 ],
 "hasColormap": false,
 "compressionType": "None",
 "defaultCompressionQuality": 75,
 "maxValues": [
  0
 ],
 "hasHistograms": true,
 "datasetFormat": "AMD",
 "maxImageHeight": 4100,
 "sortField": "",
 "bandNames": [
  "Band_1"
 ],
 "spatialReference": {
  "latestWkid": 3857,
  "wkid": 102100
 },
 "fullExtent": {
  "ymin": 3004833.2622999996,
  "xmin": -10897323.493799999,
  "ymax": 3496335.2622999996,
  "xmax": -10533533.493799999,
  "spatialReference": {
   "latestWkid": 3857,
   "wkid": 102100
  }
 },
 "bandCount": 1,
 "rasterFunctionInfos": [
  {
   "help": "",
   "name": "None",
   "description": "Make a Raster or Raster Dataset into a Function Raster Dataset."
  },
  {
   "help": "",
   "name": "None",
   "description": "Make a Raster or Raster Dataset into a Function Raster Dataset."
  }
 ],
 "supportsStatistics": true,
 "sortableFields": "MinPS,MaxPS,LowPS,HighPS,CenterX,CenterY,ZOrder,Shape_Length,Shape_Area,PercentCoverage,BisCellSize,MinElevation,MaxElevation,CellSize",
 "minValues": [
  -34.276123046875
 ],
 "allowRasterFunction": true,
 "allowComputeTiePoints": false,
 "serviceDataType": "esriImageServiceDataTypeGeneric",
 "supportsAdvancedQueries": true,
 "maxDownloadSizeLimit": 2048,
 "currentVersion": 12.1,
 "sortValue": null,
 "objectIdField": "OBJECTID",
 "blockHeight": 256,
 "initialExtent": {
  "ymin": 3004833.2622999996,
  "xmin": -10897323.493799999,
  "ymax": 3496335.2622999996,
  "xmax": -10533533.493799999,
  "spatialReference": {
   "latestWkid": 3857,
   "wkid": 102100
  }
 },
 "pixelSizeX": 1,
 "pixelSizeY": 1,
 "defaultMosaicMethod": "LockRaster",
 "name": "Bathymetry/stratmap_bathy",
 "allowedMosaicMethods": "LockRaster,NorthWest,Center,ByAttribute,Nadir,Viewpoint,Seamline,None",
 "maxDownloadImageCount": 20,
 "fields": [
  {
   "domain": null,
   "name": "OBJECTID",
   "alias": "OBJECTID",
   "type": "esriFieldTypeOID"
  },
  {
   "domain": null,
   "name": "Shape",
   "alias": "Shape",
   "type": "esriFieldTypeGeometry"
  },
  {
   "domain": null,
   "name": "Name",
   "length": 200,
   "alias": "Name",
   "type": "esriFieldTypeString"
  },
  {
   "domain": null,
   "name": "MinPS",
   "alias": "MinPS",
   "type": "esriFieldTypeDouble"
  },
  {
   "domain": null,
   "name": "MaxPS",
   "alias": "MaxPS",
   "type": "esriFieldTypeDouble"
  },
  {
   "domain": null,
   "name": "LowPS",
   "alias": "LowPS",
   "type": "esriFieldTypeDouble"
  },
  {
   "domain": null,
   "name": "HighPS",
   "alias": "HighPS",
   "type": "esriFieldTypeDouble"
  },
  {
   "domain": {
    "splitPolicy": "esriSPTDefaultValue",
    "name": "MosaicCatalogItemCategoryDomain",
    "description": "Catalog item categories.",
    "type": "codedValue",
    "codedValues": [
     {
      "code": 0,
      "name": "Unknown"
     },
     {
      "code": 1,
      "name": "Primary"
     },
     {
      "code": 2,
      "name": "Overview"
     },
     {
      "code": 3,
      "name": "Unprocessed Overview"
     },
     {
      "code": 4,
      "name": "Partial Overview"
     },
     {
      "code": 5,
      "name": "Inactive"
     },
     {
      "code": 253,
      "name": "Uploaded"
     },
     {
      "code": 254,
      "name": "Incomplete"
     },
     {
      "code": 255,
      "name": "Custom"
     }
    ],
    "mergePolicy": "esriMPTDefaultValue"
   },
   "name": "Category",
   "alias": "Category",
   "type": "esriFieldTypeInteger"
  },
  {
   "domain": null,
   "name": "Tag",
   "length": 100,
   "alias": "Tag",
   "type": "esriFieldTypeString"
  },
  {
   "domain": null,
   "name": "GroupName",
   "length": 100,
   "alias": "GroupName",
   "type": "esriFieldTypeString"
  },
  {
   "domain": null,
   "name": "ProductName",
   "length": 100,
   "alias": "ProductName",
   "type": "esriFieldTypeString"
  },
  {
   "domain": null,
   "name": "CenterX",
   "alias": "CenterX",
   "type": "esriFieldTypeDouble"
  },
  {
   "domain": null,
   "name": "CenterY",
   "alias": "CenterY",
   "type": "esriFieldTypeDouble"
  },
  {
   "domain": null,
   "name": "ZOrder",
   "alias": "ZOrder",
   "type": "esriFieldTypeInteger"
  },
  {
   "domain": null,
   "name": "Shape_Length",
   "alias": "Shape_Length",
   "type": "esriFieldTypeDouble"
  },
  {
   "domain": null,
   "name": "Shape_Area",
   "alias": "Shape_Area",
   "type": "esriFieldTypeDouble"
  },
  {
   "domain": null,
   "name": "cd_itemname",
   "length": 255,
   "alias": "Item Name",
   "type": "esriFieldTypeString"
  },
  {
   "domain": null,
   "name": "cd_itemsource",
   "length": 4096,
   "alias": "Item Source",
   "type": "esriFieldTypeString"
  },
  {
   "domain": null,
   "name": "cd_itemtype",
   "length": 255,
   "alias": "Item Type",
   "type": "esriFieldTypeString"
  },
  {
   "domain": null,
   "name": "BisDatasetId",
   "length": 38,
   "alias": "BisDatasetId",
   "type": "esriFieldTypeGUID"
  },
  {
   "domain": {
    "splitPolicy": "esriSPTDefaultValue",
    "name": "DATATYPE",
    "description": "list of data types",
    "type": "codedValue",
    "codedValues": [
     {
      "code": "ASCII Grid",
      "name": "ASCII Grid"
     },
     {
      "code": "BAG",
      "name": "BAG"
     },
     {
      "code": "CRF",
      "name": "CRF"
     },
     {
      "code": "Esri Grid",
      "name": "Esri Grid"
     },
     {
      "code": "Floating Point Grid",
      "name": "Floating Point Grid"
     },
     {
      "code": "GDB Raster",
      "name": "GDB Raster"
     },
     {
      "code": "GeoTiff (Elevation)",
      "name": "GeoTiff (Elevation)"
     },
     {
      "code": "GeoTiff (RGB)",
      "name": "GeoTiff (RGB)"
     },
     {
      "code": "HDF5",
      "name": "HDF5"
     },
     {
      "code": "Line",
      "name": "Line"
     },
     {
      "code": "MRF",
      "name": "MRF"
     },
     {
      "code": "Mosaic Dataset",
      "name": "Mosaic Dataset"
     },
     {
      "code": "Multipoint",
      "name": "Multipoint"
     },
     {
      "code": "Other",
      "name": "Other"
     },
     {
      "code": "Point",
      "name": "Point"
     },
     {
      "code": "Point Cloud (LAS)",
      "name": "Point Cloud (LAS)"
     },
     {
      "code": "Point Cloud (LASD)",
      "name": "Point Cloud (LASD)"
     },
     {
      "code": "Polygon",
      "name": "Polygon"
     },
     {
      "code": "S102",
      "name": "S102"
     },
     {
      "code": "ShapeFile",
      "name": "ShapeFile"
     },
     {
      "code": "TIN",
      "name": "TIN"
     }
    ],
    "mergePolicy": "esriMPTDefaultValue"
   },
   "name": "DataType",
   "length": 255,
   "alias": "Data Type",
   "type": "esriFieldTypeString"
  },
  {
   "domain": null,
   "name": "PercentCoverage",
   "alias": "Percent Coverage",
   "type": "esriFieldTypeDouble"
  },
  {
   "domain": null,
   "name": "BisCellSize",
   "alias": "BIS Cell Size",
   "type": "esriFieldTypeDouble"
  },
  {
   "domain": {
    "splitPolicy": "esriSPTDefaultValue",
    "name": "VERTICAL_UNITS",
    "description": "list of vertical units",
    "type": "codedValue",
    "codedValues": [
     {
      "code": "Meters",
      "name": "Meters"
     },
     {
      "code": "Feet",
      "name": "Feet"
     },
     {
      "code": "Fathoms",
      "name": "Fathoms"
     },
     {
      "code": "Feet_US",
      "name": "US Survey Feet"
     }
    ],
    "mergePolicy": "esriMPTDefaultValue"
   },
   "name": "VerticalUnits",
   "length": 255,
   "alias": "Vertical Units",
   "type": "esriFieldTypeString"
  },
  {
   "domain": {
    "splitPolicy": "esriSPTDefaultValue",
    "name": "DIRECTIONALITY",
    "description": "list of directionality",
    "type": "codedValue",
    "codedValues": [
     {
      "code": "Positive Up",
      "name": "Positive Up"
     },
     {
      "code": "Positive Down",
      "name": "Positive Down"
     }
    ],
    "mergePolicy": "esriMPTDefaultValue"
   },
   "name": "Directionality",
   "length": 255,
   "alias": "Directionality",
   "type": "esriFieldTypeString"
  },
  {
   "domain": null,
   "name": "ProxyRasterPath",
   "length": 1024,
   "alias": "Proxy Raster Path",
   "type": "esriFieldTypeString"
  },
  {
   "domain": null,
   "name": "MinElevation",
   "alias": "Min Elevation",
   "type": "esriFieldTypeDouble"
  },
  {
   "domain": null,
   "name": "MaxElevation",
   "alias": "Max Elevation",
   "type": "esriFieldTypeDouble"
  },
  {
   "domain": null,
   "name": "DepthField",
   "length": 255,
   "alias": "Depth Field",
   "type": "esriFieldTypeString"
  },
  {
   "domain": null,
   "name": "CellSize",
   "alias": "CellSize",
   "type": "esriFieldTypeDouble"
  }
 ],
 "allowAnalysis": true,
 "hasRasterAttributeTable": false,
 "useStandardizedQueries": true,
 "description": "",
 "pixelType": "F32",
 "meanPixelSize": 1,
 "exportTilesAllowed": false,
 "editFieldsInfo": null,
 "rasterTypeInfos": [
  {
   "help": "",
   "name": "Raster Dataset",
   "description": "Supports all ArcGIS Raster Datasets"
  }
 ],
 "defaultResamplingMethod": "Bilinear",
 "itemAccess": false,
 "minScale": 0,
 "serviceProperties": "LockRaster<\/MosaicMethod>First<\/MosaicOperator>true<\/SortAscending><\/LockImageID>Name<\/TileOrderField>0<\/TileOrderBase>600.000000<\/AvgImageSpacingX>300.000000<\/AvgImageSpacingY>0.0<\/ViewPointX>0.0<\/ViewPointY>0.0<\/ViewPointDefShiftX>0.0<\/ViewPointDefShiftY>None<\/CompressionMethod>75<\/CompressionQuality>0.010000<\/CompressionTolerance>Bilinear<\/SamplingMethod><\/ImageServiceProperties><\/ImageServer>",
 "advancedQueryCapabilities": {
  "supportsStatistics": true,
  "supportsSqlExpression": true,
  "supportsOrderBy": true,
  "useStandardizedQueries": true,
  "supportsPagination": true,
  "supportsDistinct": true
 },
 "serviceItemId": "4a4e98e8dad44432a33d6c83a1ca1c92",
 "capabilities": "Image,Metadata,Mensuration,Catalog",
 "maxScale": 0,
 "stdvValues": [
  1.369536736833129
 ],
 "allowedFields": "Name,MinPS,MaxPS,LowPS,HighPS,Tag,GroupName,ProductName,CenterX,CenterY,ZOrder,Shape_Length,Shape_Area,cd_itemname,cd_itemsource,cd_itemtype,BisDatasetId,DataType,PercentCoverage,BisCellSize,VerticalUnits,Directionality,ProxyRasterPath,MinElevation,MaxElevation,DepthField,CellSize",
 "minPixelSize": 0,
 "sortAscending": true,
 "maxMosaicImageCount": 20,
 "inspectionCapabilities": "",
 "maxPixelSize": 0,
 "allowedCompressions": "None,JPEG,LZ77,LERC",
 "uncompressedSize": 715214050320,
 "serviceDescription": "Bathymetry/stratmap_bathy",
 "allowCopy": true,
 "copyrightText": "",
 "mensurationCapabilities": "Basic",
 "ownershipBasedAccessControlForRasters": null
}
