{
 "extent": {
  "ymin": 32.735644369733926,
  "xmin": -98.085767129745321,
  "ymax": 34.101504952171304,
  "xmax": -95.262835931698589,
  "spatialReference": {
   "latestWkid": 4326,
   "wkid": 4326
  }
 },
 "blockWidth": 12294,
 "mosaicOperator": "First",
 "serviceSourceType": "esriImageServiceSourceTypeDataset",
 "hasMultidimensions": false,
 "maxImageWidth": 15000,
 "meanValues": [
  203.97682969739,
  215.91872513089001,
  182.51317631551001
 ],
 "hasColormap": false,
 "compressionType": "JPEG",
 "defaultCompressionQuality": 75,
 "maxValues": [
  255,
  255,
  255
 ],
 "hasHistograms": true,
 "datasetFormat": "JFIF",
 "maxImageHeight": 4100,
 "sortField": "",
 "bandNames": [
  "Layer_1",
  "Layer_2",
  "Layer_3"
 ],
 "spatialReference": {
  "latestWkid": 4326,
  "wkid": 4326
 },
 "fullExtent": {
  "ymin": 32.735644369733926,
  "xmin": -98.085767129745321,
  "ymax": 34.101504952171304,
  "xmax": -95.262835931698589,
  "spatialReference": {
   "latestWkid": 4326,
   "wkid": 4326
  }
 },
 "bandCount": 3,
 "rasterFunctionInfos": [
  {
   "help": "",
   "name": "None",
   "description": ""
  }
 ],
 "supportsStatistics": false,
 "sortableFields": "",
 "minValues": [
  0,
  0,
  0
 ],
 "allowRasterFunction": true,
 "allowComputeTiePoints": false,
 "serviceDataType": "esriImageServiceDataTypeRGB",
 "supportsAdvancedQueries": false,
 "currentVersion": 12.1,
 "sortValue": null,
 "objectIdField": "",
 "blockHeight": 1,
 "initialExtent": {
  "ymin": 32.735644369733926,
  "xmin": -98.085767129745321,
  "ymax": 34.101504952171304,
  "xmax": -95.262835931698589,
  "spatialReference": {
   "latestWkid": 4326,
   "wkid": 4326
  }
 },
 "pixelSizeX": 0.00022961861054552883,
 "pixelSizeY": 0.0001915384353439038,
 "defaultMosaicMethod": "Center",
 "name": "Geologic_Atlas_Texas_250k/sherman_3396a1",
 "allowedMosaicMethods": "",
 "fields": [],
 "allowAnalysis": true,
 "hasRasterAttributeTable": false,
 "useStandardizedQueries": false,
 "description": "The Geologic Atlas of Texas (GAT) is a series of 38 hard copy map sheets depicting surface geology for the entire state of Texas at a scale of 1:250,000. The University of Texas - Bureau of Economic Geology began compiling the Atlas in 1961 under the direction of Dr. Virgil E. Barnes. The effort involved the work of 28 UTBEG geologists, seven cartographers, and several editors, as well as additional geologists from other organizations. The last hardcopy map sheet in the GAT series was published in 1987.",
 "pixelType": "U8",
 "meanPixelSize": 23.441493946205494,
 "exportTilesAllowed": false,
 "editFieldsInfo": null,
 "rasterTypeInfos": [
  {
   "help": "",
   "name": "Raster Dataset",
   "description": "Supports all ArcGIS Raster Datasets"
  }
 ],
 "defaultResamplingMethod": "Bilinear",
 "itemAccess": false,
 "minScale": 0,
 "serviceProperties": "Center<\/MosaicMethod>First<\/MosaicOperator>true<\/SortAscending><\/LockImageID><\/TileOrderField>0<\/TileOrderBase>0.000000<\/AvgImageSpacingX>0.000000<\/AvgImageSpacingY>0.0<\/ViewPointX>0.0<\/ViewPointY>0.0<\/ViewPointDefShiftX>0.0<\/ViewPointDefShiftY>None<\/CompressionMethod>75<\/CompressionQuality>0.010000<\/CompressionTolerance>Bilinear<\/SamplingMethod><\/ImageServiceProperties><\/ImageServer>",
 "advancedQueryCapabilities": {
  "supportsStatistics": false,
  "supportsSqlExpression": false,
  "supportsOrderBy": false,
  "useStandardizedQueries": false,
  "supportsPagination": false,
  "supportsDistinct": false
 },
 "serviceItemId": "ec8f4c6eb0c64522b8b4d4d6a6268ac2",
 "capabilities": "Mensuration,Image,Metadata",
 "maxScale": 0,
 "stdvValues": [
  60.410979963130998,
  45.119154629439002,
  72.831042501430005
 ],
 "allowedFields": "",
 "minPixelSize": 0,
 "resampling": false,
 "sortAscending": true,
 "inspectionCapabilities": "",
 "maxPixelSize": 0,
 "allowedCompressions": "None,JPEG,LZ77,LERC",
 "uncompressedSize": 263005542,
 "serviceDescription": "The Geologic Atlas of Texas (GAT) is a series of 38 hard copy map sheets depicting surface geology for the entire state of Texas at a scale of 1:250,000. The University of Texas - Bureau of Economic Geology began compiling the Atlas in 1961 under the direction of Dr. Virgil E. Barnes. The effort involved the work of 28 UTBEG geologists, seven cartographers, and several editors, as well as additional geologists from other organizations. The last hardcopy map sheet in the GAT series was published in 1987.",
 "allowCopy": true,
 "copyrightText": "Texas Geographic Information Office, University of Texas - Bureau of Economic Geology",
 "mensurationCapabilities": "Basic",
 "ownershipBasedAccessControlForRasters": null
}
