{
 "extent": {
  "ymin": 3187564,
  "xmin": 230855.1893166879,
  "ymax": 3278291,
  "xmax": 301493.18931668787,
  "spatialReference": {
   "latestWkid": 26915,
   "wkid": 26915
  }
 },
 "blockWidth": 512,
 "mosaicOperator": "First",
 "serviceSourceType": "esriImageServiceSourceTypeDataset",
 "hasMultidimensions": false,
 "maxImageWidth": 15000,
 "meanValues": [
  117.13368319803
 ],
 "hasColormap": false,
 "compressionType": "None",
 "defaultCompressionQuality": 75,
 "maxValues": [
  198
 ],
 "hasHistograms": true,
 "datasetFormat": "IMAGINE Image",
 "maxImageHeight": 4100,
 "sortField": "",
 "bandNames": [
  "Layer_1"
 ],
 "spatialReference": {
  "latestWkid": 26915,
  "wkid": 26915
 },
 "fullExtent": {
  "ymin": 3187564,
  "xmin": 230855.1893166879,
  "ymax": 3278291,
  "xmax": 301493.18931668787,
  "spatialReference": {
   "latestWkid": 26915,
   "wkid": 26915
  }
 },
 "bandCount": 1,
 "rasterFunctionInfos": [
  {
   "help": "",
   "name": "None",
   "description": ""
  }
 ],
 "supportsStatistics": false,
 "sortableFields": "",
 "minValues": [
  1
 ],
 "allowRasterFunction": true,
 "allowComputeTiePoints": false,
 "serviceDataType": "esriImageServiceDataTypeGeneric",
 "supportsAdvancedQueries": false,
 "currentVersion": 12.1,
 "sortValue": null,
 "objectIdField": "",
 "blockHeight": 512,
 "initialExtent": {
  "ymin": 3187564,
  "xmin": 230855.1893166879,
  "ymax": 3278291,
  "xmax": 301493.18931668787,
  "spatialReference": {
   "latestWkid": 26915,
   "wkid": 26915
  }
 },
 "pixelSizeX": 0.99999999999999956,
 "pixelSizeY": 1,
 "defaultMosaicMethod": "Center",
 "name": "Historic_Imagery/Brazoria_USDA_1944",
 "allowedMosaicMethods": "",
 "fields": [],
 "allowAnalysis": true,
 "hasRasterAttributeTable": true,
 "useStandardizedQueries": false,
 "description": "Black and White Imagery from USDA for Brazoria County 1944",
 "pixelType": "U8",
 "meanPixelSize": 0.99999999999999978,
 "exportTilesAllowed": false,
 "editFieldsInfo": null,
 "rasterTypeInfos": [
  {
   "help": "",
   "name": "Raster Dataset",
   "description": "Supports all ArcGIS Raster Datasets"
  }
 ],
 "defaultResamplingMethod": "Bilinear",
 "itemAccess": false,
 "minScale": 0,
 "serviceProperties": "Center<\/MosaicMethod>First<\/MosaicOperator>true<\/SortAscending><\/LockImageID><\/TileOrderField>0<\/TileOrderBase>0.000000<\/AvgImageSpacingX>0.000000<\/AvgImageSpacingY>0.0<\/ViewPointX>0.0<\/ViewPointY>0.0<\/ViewPointDefShiftX>0.0<\/ViewPointDefShiftY>None<\/CompressionMethod>75<\/CompressionQuality>0.010000<\/CompressionTolerance>Bilinear<\/SamplingMethod><\/ImageServiceProperties><\/ImageServer>",
 "advancedQueryCapabilities": {
  "supportsStatistics": false,
  "supportsSqlExpression": false,
  "supportsOrderBy": false,
  "useStandardizedQueries": false,
  "supportsPagination": false,
  "supportsDistinct": false
 },
 "serviceItemId": "9477905579094f53a5bc3eacdd5cc705",
 "capabilities": "Mensuration,Image,Metadata",
 "maxScale": 0,
 "stdvValues": [
  39.792987535777002
 ],
 "allowedFields": "",
 "minPixelSize": 0,
 "resampling": false,
 "sortAscending": true,
 "inspectionCapabilities": "",
 "maxPixelSize": 0,
 "allowedCompressions": "None,JPEG,LZ77,LERC",
 "uncompressedSize": 6408773826,
 "serviceDescription": "Black and White Imagery from USDA for Brazoria County 1944",
 "allowCopy": true,
 "copyrightText": "Texas Geographic Information Office, USDA",
 "mensurationCapabilities": "Basic",
 "ownershipBasedAccessControlForRasters": null
}
