{
 "extent": {
  "ymin": 3143916.7462480371,
  "xmin": 619157.66265163885,
  "ymax": 3176081.7462480371,
  "xmax": 686224.66265163885,
  "spatialReference": {
   "latestWkid": 26914,
   "wkid": 26914
  }
 },
 "blockWidth": 512,
 "mosaicOperator": "First",
 "serviceSourceType": "esriImageServiceSourceTypeDataset",
 "hasMultidimensions": false,
 "maxImageWidth": 15000,
 "meanValues": [
  144.18018566377
 ],
 "hasColormap": false,
 "compressionType": "None",
 "defaultCompressionQuality": 75,
 "maxValues": [
  255
 ],
 "hasHistograms": true,
 "datasetFormat": "IMAGINE Image",
 "maxImageHeight": 4100,
 "sortField": "",
 "bandNames": [
  "Layer_1"
 ],
 "spatialReference": {
  "latestWkid": 26914,
  "wkid": 26914
 },
 "fullExtent": {
  "ymin": 3143916.7462480371,
  "xmin": 619157.66265163885,
  "ymax": 3176081.7462480371,
  "xmax": 686224.66265163885,
  "spatialReference": {
   "latestWkid": 26914,
   "wkid": 26914
  }
 },
 "bandCount": 1,
 "rasterFunctionInfos": [
  {
   "help": "",
   "name": "None",
   "description": ""
  }
 ],
 "supportsStatistics": false,
 "sortableFields": "",
 "minValues": [
  17
 ],
 "allowRasterFunction": true,
 "allowComputeTiePoints": false,
 "serviceDataType": "esriImageServiceDataTypeGeneric",
 "supportsAdvancedQueries": false,
 "currentVersion": 12.1,
 "sortValue": null,
 "objectIdField": "",
 "blockHeight": 512,
 "initialExtent": {
  "ymin": 3143916.7462480371,
  "xmin": 619157.66265163885,
  "ymax": 3176081.7462480371,
  "xmax": 686224.66265163885,
  "spatialReference": {
   "latestWkid": 26914,
   "wkid": 26914
  }
 },
 "pixelSizeX": 1,
 "pixelSizeY": 1,
 "defaultMosaicMethod": "Center",
 "name": "Historic_Imagery/Goliad_USGS_1979",
 "allowedMosaicMethods": "",
 "fields": [],
 "allowAnalysis": true,
 "hasRasterAttributeTable": true,
 "useStandardizedQueries": false,
 "description": "Black and White Imagery from USGS for Goliad County 1979",
 "pixelType": "U8",
 "meanPixelSize": 1,
 "exportTilesAllowed": false,
 "editFieldsInfo": null,
 "rasterTypeInfos": [
  {
   "help": "",
   "name": "Raster Dataset",
   "description": "Supports all ArcGIS Raster Datasets"
  }
 ],
 "defaultResamplingMethod": "Bilinear",
 "itemAccess": false,
 "minScale": 0,
 "serviceProperties": "Center<\/MosaicMethod>First<\/MosaicOperator>true<\/SortAscending><\/LockImageID><\/TileOrderField>0<\/TileOrderBase>0.000000<\/AvgImageSpacingX>0.000000<\/AvgImageSpacingY>0.0<\/ViewPointX>0.0<\/ViewPointY>0.0<\/ViewPointDefShiftX>0.0<\/ViewPointDefShiftY>None<\/CompressionMethod>75<\/CompressionQuality>0.010000<\/CompressionTolerance>Bilinear<\/SamplingMethod><\/ImageServiceProperties><\/ImageServer>",
 "advancedQueryCapabilities": {
  "supportsStatistics": false,
  "supportsSqlExpression": false,
  "supportsOrderBy": false,
  "useStandardizedQueries": false,
  "supportsPagination": false,
  "supportsDistinct": false
 },
 "serviceItemId": "0295c03590d74e12aa7f991e0f917f67",
 "capabilities": "Mensuration,Image,Metadata",
 "maxScale": 0,
 "stdvValues": [
  25.560115287030001
 ],
 "allowedFields": "",
 "minPixelSize": 0,
 "resampling": false,
 "sortAscending": true,
 "inspectionCapabilities": "",
 "maxPixelSize": 0,
 "allowedCompressions": "None,JPEG,LZ77,LERC",
 "uncompressedSize": 2157210055,
 "serviceDescription": "Black and White Imagery from USGS for Goliad County 1979",
 "allowCopy": true,
 "copyrightText": "Texas Geographic Information Office, USGS",
 "mensurationCapabilities": "Basic",
 "ownershipBasedAccessControlForRasters": null
}
