{
 "extent": {
  "ymin": 3308719.0512153609,
  "xmin": 391034.95766788692,
  "ymax": 3354606.0512153609,
  "xmax": 436022.95766788692,
  "spatialReference": {
   "latestWkid": 26915,
   "wkid": 26915
  }
 },
 "blockWidth": 512,
 "mosaicOperator": "First",
 "serviceSourceType": "esriImageServiceSourceTypeDataset",
 "hasMultidimensions": false,
 "maxImageWidth": 15000,
 "meanValues": [
  94.584991457762001
 ],
 "hasColormap": false,
 "compressionType": "RLE",
 "defaultCompressionQuality": 75,
 "maxValues": [
  222
 ],
 "hasHistograms": true,
 "datasetFormat": "IMAGINE Image",
 "maxImageHeight": 4100,
 "sortField": "",
 "bandNames": [
  "Layer_1"
 ],
 "spatialReference": {
  "latestWkid": 26915,
  "wkid": 26915
 },
 "fullExtent": {
  "ymin": 3308719.0512153609,
  "xmin": 391034.95766788692,
  "ymax": 3354606.0512153609,
  "xmax": 436022.95766788692,
  "spatialReference": {
   "latestWkid": 26915,
   "wkid": 26915
  }
 },
 "bandCount": 1,
 "rasterFunctionInfos": [
  {
   "help": "",
   "name": "None",
   "description": ""
  }
 ],
 "supportsStatistics": false,
 "sortableFields": "",
 "minValues": [
  33
 ],
 "allowRasterFunction": true,
 "allowComputeTiePoints": false,
 "serviceDataType": "esriImageServiceDataTypeGeneric",
 "supportsAdvancedQueries": false,
 "currentVersion": 12.1,
 "sortValue": null,
 "objectIdField": "",
 "blockHeight": 512,
 "initialExtent": {
  "ymin": 3308719.0512153609,
  "xmin": 391034.95766788692,
  "ymax": 3354606.0512153609,
  "xmax": 436022.95766788692,
  "spatialReference": {
   "latestWkid": 26915,
   "wkid": 26915
  }
 },
 "pixelSizeX": 1,
 "pixelSizeY": 1,
 "defaultMosaicMethod": "Center",
 "name": "Historic_Imagery/Orange_TxDOT_1987",
 "allowedMosaicMethods": "",
 "fields": [],
 "allowAnalysis": true,
 "hasRasterAttributeTable": true,
 "useStandardizedQueries": false,
 "description": "Black and White Imagery from TXDOT for Orange County 1987",
 "pixelType": "U8",
 "meanPixelSize": 1,
 "exportTilesAllowed": false,
 "editFieldsInfo": null,
 "rasterTypeInfos": [
  {
   "help": "",
   "name": "Raster Dataset",
   "description": "Supports all ArcGIS Raster Datasets"
  }
 ],
 "defaultResamplingMethod": "Bilinear",
 "itemAccess": false,
 "minScale": 0,
 "serviceProperties": "Center<\/MosaicMethod>First<\/MosaicOperator>true<\/SortAscending><\/LockImageID><\/TileOrderField>0<\/TileOrderBase>0.000000<\/AvgImageSpacingX>0.000000<\/AvgImageSpacingY>0.0<\/ViewPointX>0.0<\/ViewPointY>0.0<\/ViewPointDefShiftX>0.0<\/ViewPointDefShiftY>None<\/CompressionMethod>75<\/CompressionQuality>0.010000<\/CompressionTolerance>Bilinear<\/SamplingMethod><\/ImageServiceProperties><\/ImageServer>",
 "advancedQueryCapabilities": {
  "supportsStatistics": false,
  "supportsSqlExpression": false,
  "supportsOrderBy": false,
  "useStandardizedQueries": false,
  "supportsPagination": false,
  "supportsDistinct": false
 },
 "serviceItemId": "1ff87f35db1e4b75a53bf7c929eb8a2a",
 "capabilities": "Mensuration,Image,Metadata",
 "maxScale": 0,
 "stdvValues": [
  27.697868720132
 ],
 "allowedFields": "",
 "minPixelSize": 0,
 "resampling": false,
 "sortAscending": true,
 "inspectionCapabilities": "",
 "maxPixelSize": 0,
 "allowedCompressions": "None,JPEG,LZ77,LERC",
 "uncompressedSize": 2064364356,
 "serviceDescription": "Black and White Imagery from TXDOT for Orange County 1987",
 "allowCopy": true,
 "copyrightText": "Texas Geographic Information Office, TxDOT",
 "mensurationCapabilities": "Basic",
 "ownershipBasedAccessControlForRasters": null
}
