{
 "extent": {
  "ymin": 3150357.1814443148,
  "xmin": 675186.70300537325,
  "ymax": 3205397.1814443148,
  "xmax": 709076.70300537325,
  "spatialReference": {
   "latestWkid": 26914,
   "wkid": 26914
  }
 },
 "blockWidth": 512,
 "mosaicOperator": "First",
 "serviceSourceType": "esriImageServiceSourceTypeDataset",
 "hasMultidimensions": false,
 "maxImageWidth": 15000,
 "meanValues": [
  129.15131764639
 ],
 "hasColormap": false,
 "compressionType": "RLE",
 "defaultCompressionQuality": 75,
 "maxValues": [
  231
 ],
 "hasHistograms": true,
 "datasetFormat": "IMAGINE Image",
 "maxImageHeight": 4100,
 "sortField": "",
 "bandNames": [
  "Layer_1"
 ],
 "spatialReference": {
  "latestWkid": 26914,
  "wkid": 26914
 },
 "fullExtent": {
  "ymin": 3150357.1814443148,
  "xmin": 675186.70300537325,
  "ymax": 3205397.1814443148,
  "xmax": 709076.70300537325,
  "spatialReference": {
   "latestWkid": 26914,
   "wkid": 26914
  }
 },
 "bandCount": 1,
 "rasterFunctionInfos": [
  {
   "help": "",
   "name": "None",
   "description": ""
  }
 ],
 "supportsStatistics": false,
 "sortableFields": "",
 "minValues": [
  1
 ],
 "allowRasterFunction": true,
 "allowComputeTiePoints": false,
 "serviceDataType": "esriImageServiceDataTypeGeneric",
 "supportsAdvancedQueries": false,
 "currentVersion": 12.1,
 "sortValue": null,
 "objectIdField": "",
 "blockHeight": 512,
 "initialExtent": {
  "ymin": 3150357.1814443148,
  "xmin": 675186.70300537325,
  "ymax": 3205397.1814443148,
  "xmax": 709076.70300537325,
  "spatialReference": {
   "latestWkid": 26914,
   "wkid": 26914
  }
 },
 "pixelSizeX": 1,
 "pixelSizeY": 1,
 "defaultMosaicMethod": "Center",
 "name": "Historic_Imagery/Victoria_USDA_1966",
 "allowedMosaicMethods": "",
 "fields": [],
 "allowAnalysis": true,
 "hasRasterAttributeTable": true,
 "useStandardizedQueries": false,
 "description": "Black and White Imagery from USDA for Victoria County 1966",
 "pixelType": "U8",
 "meanPixelSize": 1,
 "exportTilesAllowed": false,
 "editFieldsInfo": null,
 "rasterTypeInfos": [
  {
   "help": "",
   "name": "Raster Dataset",
   "description": "Supports all ArcGIS Raster Datasets"
  }
 ],
 "defaultResamplingMethod": "Bilinear",
 "itemAccess": false,
 "minScale": 0,
 "serviceProperties": "Center<\/MosaicMethod>First<\/MosaicOperator>true<\/SortAscending><\/LockImageID><\/TileOrderField>0<\/TileOrderBase>0.000000<\/AvgImageSpacingX>0.000000<\/AvgImageSpacingY>0.0<\/ViewPointX>0.0<\/ViewPointY>0.0<\/ViewPointDefShiftX>0.0<\/ViewPointDefShiftY>None<\/CompressionMethod>75<\/CompressionQuality>0.010000<\/CompressionTolerance>Bilinear<\/SamplingMethod><\/ImageServiceProperties><\/ImageServer>",
 "advancedQueryCapabilities": {
  "supportsStatistics": false,
  "supportsSqlExpression": false,
  "supportsOrderBy": false,
  "useStandardizedQueries": false,
  "supportsPagination": false,
  "supportsDistinct": false
 },
 "serviceItemId": "128ca36f48014a1f8f963099139c7288",
 "capabilities": "Mensuration,Image,Metadata",
 "maxScale": 0,
 "stdvValues": [
  47.425347394806998
 ],
 "allowedFields": "",
 "minPixelSize": 0,
 "resampling": false,
 "noDataValues": [
  0
 ],
 "sortAscending": true,
 "inspectionCapabilities": "",
 "maxPixelSize": 0,
 "noDataValue": 0,
 "allowedCompressions": "None,JPEG,LZ77,LERC",
 "uncompressedSize": 1865305600,
 "serviceDescription": "Black and White Imagery from USDA for Victoria County 1966",
 "allowCopy": true,
 "copyrightText": "Texas Geographic Information Office, USDA",
 "mensurationCapabilities": "Basic",
 "ownershipBasedAccessControlForRasters": null
}
