{
 "extent": {
  "ymin": 3006553.0530000017,
  "xmin": -11876706.463300001,
  "ymax": 4378713.4530000016,
  "xmax": -10408154.863300001,
  "spatialReference": {
   "latestWkid": 3857,
   "wkid": 102100
  }
 },
 "blockWidth": 2048,
 "mosaicOperator": "First",
 "serviceSourceType": "esriImageServiceSourceTypeMosaicDataset",
 "hasMultidimensions": false,
 "maxImageWidth": 15000,
 "maxRecordCount": 1000,
 "meanValues": [
  106.89193975323577,
  108.08973784102872,
  91.275976716262704,
  136.1334950603721
 ],
 "hasColormap": false,
 "compressionType": "None",
 "defaultCompressionQuality": 75,
 "maxValues": [
  212,
  211,
  210,
  225
 ],
 "hasHistograms": true,
 "datasetFormat": "AMD",
 "maxImageHeight": 4100,
 "sortField": "",
 "bandNames": [
  "Red",
  "Green",
  "Blue",
  "Infrared"
 ],
 "spatialReference": {
  "latestWkid": 3857,
  "wkid": 102100
 },
 "fullExtent": {
  "ymin": 3006553.0530000017,
  "xmin": -11876706.463300001,
  "ymax": 4378713.4530000016,
  "xmax": -10408154.863300001,
  "spatialReference": {
   "latestWkid": 3857,
   "wkid": 102100
  }
 },
 "bandCount": 4,
 "rasterFunctionInfos": [
  {
   "help": "",
   "name": "None",
   "description": ""
  }
 ],
 "supportsStatistics": true,
 "sortableFields": "MinPS,MaxPS,LowPS,HighPS,CenterX,CenterY,ZOrder",
 "minValues": [
  0,
  0,
  0,
  0
 ],
 "allowRasterFunction": true,
 "allowComputeTiePoints": false,
 "serviceDataType": "esriImageServiceDataTypeGeneric",
 "supportsAdvancedQueries": true,
 "maxDownloadSizeLimit": 2048,
 "currentVersion": 12.1,
 "sortValue": null,
 "objectIdField": "objectid",
 "blockHeight": 256,
 "initialExtent": {
  "ymin": 3006553.0530000017,
  "xmin": -11876706.463300001,
  "ymax": 4378713.4530000016,
  "xmax": -10408154.863300001,
  "spatialReference": {
   "latestWkid": 3857,
   "wkid": 102100
  }
 },
 "pixelSizeX": 0.59999999999999987,
 "pixelSizeY": 0.59999999999999998,
 "defaultMosaicMethod": "Northwest",
 "name": "NAIP/NAIP18_NCCIR_60cm",
 "allowedMosaicMethods": "NorthWest,Center,LockRaster,ByAttribute,Nadir,Viewpoint,Seamline,None",
 "maxDownloadImageCount": 20,
 "fields": [
  {
   "domain": null,
   "name": "objectid",
   "alias": "OBJECTID",
   "type": "esriFieldTypeOID"
  },
  {
   "domain": null,
   "name": "name",
   "length": 200,
   "alias": "Name",
   "type": "esriFieldTypeString"
  },
  {
   "domain": null,
   "name": "minps",
   "alias": "MinPS",
   "type": "esriFieldTypeDouble"
  },
  {
   "domain": null,
   "name": "maxps",
   "alias": "MaxPS",
   "type": "esriFieldTypeDouble"
  },
  {
   "domain": null,
   "name": "lowps",
   "alias": "LowPS",
   "type": "esriFieldTypeDouble"
  },
  {
   "domain": null,
   "name": "highps",
   "alias": "HighPS",
   "type": "esriFieldTypeDouble"
  },
  {
   "domain": {
    "splitPolicy": "esriSPTDefaultValue",
    "name": "MosaicCatalogItemCategoryDomain",
    "description": "Catalog item categories.",
    "type": "codedValue",
    "codedValues": [
     {
      "code": 0,
      "name": "Unknown"
     },
     {
      "code": 1,
      "name": "Primary"
     },
     {
      "code": 2,
      "name": "Overview"
     },
     {
      "code": 3,
      "name": "Unprocessed Overview"
     },
     {
      "code": 4,
      "name": "Partial Overview"
     },
     {
      "code": 5,
      "name": "Inactive"
     },
     {
      "code": 253,
      "name": "Uploaded"
     },
     {
      "code": 254,
      "name": "Incomplete"
     },
     {
      "code": 255,
      "name": "Custom"
     }
    ],
    "mergePolicy": "esriMPTDefaultValue"
   },
   "name": "category",
   "alias": "Category",
   "type": "esriFieldTypeInteger"
  },
  {
   "domain": null,
   "name": "tag",
   "length": 100,
   "alias": "Tag",
   "type": "esriFieldTypeString"
  },
  {
   "domain": null,
   "name": "groupname",
   "length": 100,
   "alias": "GroupName",
   "type": "esriFieldTypeString"
  },
  {
   "domain": null,
   "name": "productname",
   "length": 100,
   "alias": "ProductName",
   "type": "esriFieldTypeString"
  },
  {
   "domain": null,
   "name": "centerx",
   "alias": "CenterX",
   "type": "esriFieldTypeDouble"
  },
  {
   "domain": null,
   "name": "centery",
   "alias": "CenterY",
   "type": "esriFieldTypeDouble"
  },
  {
   "domain": null,
   "name": "zorder",
   "alias": "ZOrder",
   "type": "esriFieldTypeInteger"
  },
  {
   "domain": null,
   "name": "shape",
   "alias": "Shape",
   "type": "esriFieldTypeGeometry"
  }
 ],
 "allowAnalysis": true,
 "hasRasterAttributeTable": false,
 "useStandardizedQueries": true,
 "description": "This orthoimagery dataset was acquired by the National Agriculture Imagery Program (NAIP) during the 2018 agricultural growing season and through the winter and spring of 2019 (May 2018 - April 2019), resulting in a mix of leaf-on/leaf-off conditions statewide in Texas. The entire dataset is available at 60-cm (2-foot) pixel resolution. This pixel resolution allows the user to identify features on the ground such as sheds, helipad markings, driveways, car ports, medians, and bike lanes. The entire dataset is available as a 4-band (RGBIR) product which allows the user to display the imagery in natural color (RGB) or color infrared (IRRG). Flight date is in each filename as YYYYMMDD, and each image tile covers one-4th of a USGS Digital Orthophoto Quad (DOQ), resulting in a DOQQ or approximately 16 square miles with minimum 300-meter buffers. All individual tile images are rectified in the UTM coordinate system, NAD 83, and cast into a single predetermined UTM zone.\n\nNAIP is administered by the USDA's Farm Service Agency (FSA) through the Aerial Photography Field Office (APFO) in Salt Lake City, Utah. The program was established to support FSA's strategic goals centered on agricultural production. The orthoimagery are used as a base layer for GIS programs in FSA's County Service Centers including maintenance of the Common Land Unit (CLU) boundaries. However, there are many other potential uses and applications of NAIP data as a statewide base layer of imagery in Texas. NAIP imagery are used for a wide variety of purposes throughout the state including land use planning, natural resource assessment, energy production, transportation, emergency management, ecology, air quality monitoring, etc. \n\nNAIP acquisitions in Texas are contracted based on available funding and the FSA imagery acquisition cycle. Since 2008, NAIP statewide imagery have been acquired for Texas on a 2-year cycle. This refresh rate allows the user to conduct change detection studies that can be used to monitor climate patterns such as drought or to show the rate of manmade growth on the fringes of urban development.",
 "pixelType": "U8",
 "meanPixelSize": 0.59999999999999987,
 "exportTilesAllowed": false,
 "editFieldsInfo": null,
 "rasterTypeInfos": [
  {
   "help": "",
   "name": "Raster Dataset",
   "description": "Supports all ArcGIS Raster Datasets"
  }
 ],
 "defaultResamplingMethod": "Bilinear",
 "itemAccess": false,
 "minScale": 0,
 "serviceProperties": "NorthWest<\/MosaicMethod>First<\/MosaicOperator>true<\/SortAscending><\/LockImageID>Name<\/TileOrderField>0<\/TileOrderBase>600.000000<\/AvgImageSpacingX>300.000000<\/AvgImageSpacingY>0.0<\/ViewPointX>0.0<\/ViewPointY>0.0<\/ViewPointDefShiftX>0.0<\/ViewPointDefShiftY>None<\/CompressionMethod>75<\/CompressionQuality>0.010000<\/CompressionTolerance>Bilinear<\/SamplingMethod><\/ImageServiceProperties><\/ImageServer>",
 "advancedQueryCapabilities": {
  "supportsStatistics": true,
  "supportsSqlExpression": true,
  "supportsOrderBy": true,
  "useStandardizedQueries": true,
  "supportsPagination": true,
  "supportsDistinct": true
 },
 "serviceItemId": "3a4ed30ef5634b3fbb0846ca31a1142b",
 "capabilities": "Catalog,Mensuration,Image,Metadata",
 "maxScale": 0,
 "stdvValues": [
  30.080602631536067,
  22.531132487092609,
  19.666546942141178,
  25.032030663935963
 ],
 "allowedFields": "Name,MinPS,MaxPS,LowPS,HighPS,Tag,GroupName,ProductName,CenterX,CenterY,ZOrder",
 "minPixelSize": 0,
 "resampling": false,
 "sortAscending": true,
 "maxMosaicImageCount": 20,
 "inspectionCapabilities": "",
 "maxPixelSize": 0,
 "allowedCompressions": "None,JPEG,LZ77,LERC",
 "uncompressedSize": 22389870565296,
 "serviceDescription": "This orthoimagery dataset was acquired by the National Agriculture Imagery Program (NAIP) during the 2018 agricultural growing season and through the winter and spring of 2019 (May 2018 - April 2019), resulting in a mix of leaf-on/leaf-off conditions statewide in Texas. The entire dataset is available at 60-cm (2-foot) pixel resolution. This pixel resolution allows the user to identify features on the ground such as sheds, helipad markings, driveways, car ports, medians, and bike lanes. The entire dataset is available as a 4-band (RGBIR) product which allows the user to display the imagery in natural color (RGB) or color infrared (IRRG). Flight date is in each filename as YYYYMMDD, and each image tile covers one-4th of a USGS Digital Orthophoto Quad (DOQ), resulting in a DOQQ or approximately 16 square miles with minimum 300-meter buffers. All individual tile images are rectified in the UTM coordinate system, NAD 83, and cast into a single predetermined UTM zone.\n\nNAIP is administered by the USDA's Farm Service Agency (FSA) through the Aerial Photography Field Office (APFO) in Salt Lake City, Utah. The program was established to support FSA's strategic goals centered on agricultural production. The orthoimagery are used as a base layer for GIS programs in FSA's County Service Centers including maintenance of the Common Land Unit (CLU) boundaries. However, there are many other potential uses and applications of NAIP data as a statewide base layer of imagery in Texas. NAIP imagery are used for a wide variety of purposes throughout the state including land use planning, natural resource assessment, energy production, transportation, emergency management, ecology, air quality monitoring, etc. \n\nNAIP acquisitions in Texas are contracted based on available funding and the FSA imagery acquisition cycle. Since 2008, NAIP statewide imagery have been acquired for Texas on a 2-year cycle. This refresh rate allows the user to conduct change detection studies that can be used to monitor climate patterns such as drought or to show the rate of manmade growth on the fringes of urban development.",
 "allowCopy": true,
 "copyrightText": "Texas Geographic Information Office, USDA",
 "mensurationCapabilities": "",
 "ownershipBasedAccessControlForRasters": null
}
