{
 "extent": {
  "ymin": 2975509.7437999966,
  "xmin": -11876829.989,
  "ymax": 4378971.5437999964,
  "xmax": -10407983.789000001,
  "spatialReference": {
   "latestWkid": 3857,
   "wkid": 102100
  }
 },
 "blockWidth": 2048,
 "mosaicOperator": "First",
 "serviceSourceType": "esriImageServiceSourceTypeMosaicDataset",
 "hasMultidimensions": false,
 "maxImageWidth": 15000,
 "maxRecordCount": 1000,
 "meanValues": [
  133.37090146723952,
  112.11631375775715,
  98.127645753665618,
  118.83533469202671
 ],
 "hasColormap": false,
 "compressionType": "None",
 "defaultCompressionQuality": 75,
 "maxValues": [
  255,
  255,
  255,
  255
 ],
 "hasHistograms": true,
 "datasetFormat": "AMD",
 "maxImageHeight": 4100,
 "sortField": "",
 "bandNames": [
  "Red",
  "Green",
  "Blue",
  "Infrared"
 ],
 "spatialReference": {
  "latestWkid": 3857,
  "wkid": 102100
 },
 "fullExtent": {
  "ymin": 2975509.7437999966,
  "xmin": -11876829.989,
  "ymax": 4378971.5437999964,
  "xmax": -10407983.789000001,
  "spatialReference": {
   "latestWkid": 3857,
   "wkid": 102100
  }
 },
 "bandCount": 4,
 "rasterFunctionInfos": [
  {
   "help": "",
   "name": "None",
   "description": "Make a Raster or Raster Dataset into a Function Raster Dataset."
  },
  {
   "help": "",
   "name": "None",
   "description": "Make a Raster or Raster Dataset into a Function Raster Dataset."
  }
 ],
 "supportsStatistics": true,
 "sortableFields": "minps,maxps,lowps,highps,centerx,centery,zorder,st_area(shape),st_perimeter(shape)",
 "minValues": [
  0,
  0,
  0,
  0
 ],
 "allowRasterFunction": true,
 "allowComputeTiePoints": false,
 "serviceDataType": "esriImageServiceDataTypeGeneric",
 "supportsAdvancedQueries": true,
 "maxDownloadSizeLimit": 2048,
 "currentVersion": 12.1,
 "sortValue": null,
 "objectIdField": "objectid",
 "blockHeight": 256,
 "initialExtent": {
  "ymin": 2975509.7437999966,
  "xmin": -11876829.989,
  "ymax": 4378971.5437999964,
  "xmax": -10407983.789000001,
  "spatialReference": {
   "latestWkid": 3857,
   "wkid": 102100
  }
 },
 "pixelSizeX": 0.59999999999999964,
 "pixelSizeY": 0.59999999999999987,
 "defaultMosaicMethod": "Northwest",
 "name": "NAIP/NAIP22_NCCIR_60cm",
 "allowedMosaicMethods": "NorthWest,Center,LockRaster,ByAttribute,Nadir,Viewpoint,Seamline,None",
 "maxDownloadImageCount": 20,
 "fields": [
  {
   "domain": null,
   "name": "objectid",
   "alias": "objectid",
   "type": "esriFieldTypeOID"
  },
  {
   "domain": null,
   "name": "name",
   "length": 200,
   "alias": "name",
   "type": "esriFieldTypeString"
  },
  {
   "domain": null,
   "name": "minps",
   "alias": "minps",
   "type": "esriFieldTypeDouble"
  },
  {
   "domain": null,
   "name": "maxps",
   "alias": "maxps",
   "type": "esriFieldTypeDouble"
  },
  {
   "domain": null,
   "name": "lowps",
   "alias": "lowps",
   "type": "esriFieldTypeDouble"
  },
  {
   "domain": null,
   "name": "highps",
   "alias": "highps",
   "type": "esriFieldTypeDouble"
  },
  {
   "domain": {
    "splitPolicy": "esriSPTDefaultValue",
    "name": "MosaicCatalogItemCategoryDomain",
    "description": "Catalog item categories.",
    "type": "codedValue",
    "codedValues": [
     {
      "code": 0,
      "name": "Unknown"
     },
     {
      "code": 1,
      "name": "Primary"
     },
     {
      "code": 2,
      "name": "Overview"
     },
     {
      "code": 3,
      "name": "Unprocessed Overview"
     },
     {
      "code": 4,
      "name": "Partial Overview"
     },
     {
      "code": 5,
      "name": "Inactive"
     },
     {
      "code": 253,
      "name": "Uploaded"
     },
     {
      "code": 254,
      "name": "Incomplete"
     },
     {
      "code": 255,
      "name": "Custom"
     }
    ],
    "mergePolicy": "esriMPTDefaultValue"
   },
   "name": "category",
   "alias": "category",
   "type": "esriFieldTypeInteger"
  },
  {
   "domain": null,
   "name": "tag",
   "length": 100,
   "alias": "tag",
   "type": "esriFieldTypeString"
  },
  {
   "domain": null,
   "name": "groupname",
   "length": 100,
   "alias": "groupname",
   "type": "esriFieldTypeString"
  },
  {
   "domain": null,
   "name": "productname",
   "length": 100,
   "alias": "productname",
   "type": "esriFieldTypeString"
  },
  {
   "domain": null,
   "name": "centerx",
   "alias": "centerx",
   "type": "esriFieldTypeDouble"
  },
  {
   "domain": null,
   "name": "centery",
   "alias": "centery",
   "type": "esriFieldTypeDouble"
  },
  {
   "domain": null,
   "name": "zorder",
   "alias": "zorder",
   "type": "esriFieldTypeInteger"
  },
  {
   "domain": null,
   "name": "shape",
   "alias": "shape",
   "type": "esriFieldTypeGeometry"
  },
  {
   "domain": null,
   "name": "st_area(shape)",
   "alias": "st_area(shape)",
   "type": "esriFieldTypeDouble"
  },
  {
   "domain": null,
   "name": "st_perimeter(shape)",
   "alias": "st_perimeter(shape)",
   "type": "esriFieldTypeDouble"
  }
 ],
 "allowAnalysis": true,
 "hasRasterAttributeTable": false,
 "useStandardizedQueries": true,
 "description": "This orthoimagery dataset was acquired by the National Agriculture Imagery Program (NAIP) during the 2022 agricultural growing season and through the spring and summer of 2022 (May 2022 \u2013 September 2022), resulting in leaf-on conditions statewide in Texas. The entire dataset is available at 60-cm (2-foot) pixel resolution. This pixel resolution allows the user to identify features on the ground such as sheds, helipad markings, driveways, car ports, medians, and bike lanes. The entire dataset is available as a 4-band (RGBIR) product which allows the user to display the imagery in natural color (RGB) or color infrared (IRRG). Flight date is in each filename as YYYYMMDD, and each image tile covers one-4th of a USGS Digital Orthophoto Quad (DOQ), resulting in a DOQQ or approximately 16 square miles with minimum 300-meter buffers. All individual tile images are rectified in the UTM coordinate system, NAD 83, and cast into a single predetermined UTM zone. This dataset is also available for download as Compressed County Mosaics (CCMs).",
 "pixelType": "U8",
 "meanPixelSize": 0.59999999999999976,
 "exportTilesAllowed": false,
 "editFieldsInfo": null,
 "rasterTypeInfos": [
  {
   "help": "",
   "name": "Raster Dataset",
   "description": "Supports all ArcGIS Raster Datasets"
  }
 ],
 "defaultResamplingMethod": "Bilinear",
 "itemAccess": false,
 "minScale": 0,
 "serviceProperties": "NorthWest<\/MosaicMethod>First<\/MosaicOperator>true<\/SortAscending><\/LockImageID>name<\/TileOrderField>0<\/TileOrderBase>600.000000<\/AvgImageSpacingX>300.000000<\/AvgImageSpacingY>0.0<\/ViewPointX>0.0<\/ViewPointY>0.0<\/ViewPointDefShiftX>0.0<\/ViewPointDefShiftY>None<\/CompressionMethod>75<\/CompressionQuality>0.010000<\/CompressionTolerance>Bilinear<\/SamplingMethod><\/ImageServiceProperties><\/ImageServer>",
 "advancedQueryCapabilities": {
  "supportsStatistics": true,
  "supportsSqlExpression": true,
  "supportsOrderBy": true,
  "useStandardizedQueries": true,
  "supportsPagination": true,
  "supportsDistinct": true
 },
 "serviceItemId": "8e0b47fd3363433a809c0ee8dcf5395b",
 "capabilities": "Catalog,Image,Metadata",
 "maxScale": 0,
 "stdvValues": [
  26.12635293183757,
  20.527023594016352,
  17.640986503438796,
  20.443468265996191
 ],
 "allowedFields": "name,minps,maxps,lowps,highps,tag,groupname,productname,centerx,centery,zorder,st_area(shape),st_perimeter(shape)",
 "minPixelSize": 0,
 "resampling": false,
 "sortAscending": true,
 "maxMosaicImageCount": 20,
 "inspectionCapabilities": "",
 "maxPixelSize": 0,
 "allowedCompressions": "None,JPEG,LZ77,LERC",
 "uncompressedSize": 22905217019724,
 "serviceDescription": "This orthoimagery dataset was acquired by the National Agriculture Imagery Program (NAIP) during the 2022 agricultural growing season and through the spring and summer of 2022 (May 2022 \u2013 September 2022), resulting in leaf-on conditions statewide in Texas. The entire dataset is available at 60-cm (2-foot) pixel resolution. This pixel resolution allows the user to identify features on the ground such as sheds, helipad markings, driveways, car ports, medians, and bike lanes. The entire dataset is available as a 4-band (RGBIR) product which allows the user to display the imagery in natural color (RGB) or color infrared (IRRG). Flight date is in each filename as YYYYMMDD, and each image tile covers one-4th of a USGS Digital Orthophoto Quad (DOQ), resulting in a DOQQ or approximately 16 square miles with minimum 300-meter buffers. All individual tile images are rectified in the UTM coordinate system, NAD 83, and cast into a single predetermined UTM zone. This dataset is also available for download as Compressed County Mosaics (CCMs).",
 "allowCopy": true,
 "copyrightText": "Texas Geographic Information Office, USDA",
 "mensurationCapabilities": "None",
 "ownershipBasedAccessControlForRasters": null
}
