View In:
ArcGIS JavaScript
ArcGIS Online Map Viewer
ArcGIS Earth
Service Description: Bathymetry/stratmap_bathy_10m
Name: Bathymetry/stratmap_bathy_10m
Description:
Single Fused Map Cache: false
Extent:
XMin: -1.08593822143E7
YMin: 3007694.4799999967
XMax: -1.05397322143E7
YMax: 3480434.4799999967
Spatial Reference: 102100
(3857)
Initial Extent:
XMin: -1.08593822143E7
YMin: 3007694.4799999967
XMax: -1.05397322143E7
YMax: 3480434.4799999967
Spatial Reference: 102100
(3857)
Full Extent:
XMin: -1.08593822143E7
YMin: 3007694.4799999967
XMax: -1.05397322143E7
YMax: 3480434.4799999967
Spatial Reference: 102100
(3857)
Pixel Size X: 10.0
Pixel Size Y: 10.0
Band Count: 1
Pixel Type: F32
RasterFunction Infos: {"rasterFunctionInfos": [{
"help": "",
"name": "None",
"description": "Make a Raster or Raster Dataset into a Function Raster Dataset."
}]}
Mensuration Capabilities: Basic
Inspection Capabilities:
Has Histograms: true
Has Colormap: false
Has Multi Dimensions : false
Rendering Rule:
Min Scale: 0
Max Scale: 0
Copyright Text:
Service Data Type: esriImageServiceDataTypeGeneric
Min Values: -34.276123046875
Max Values: 0
Mean Values: -2.2150001342852264
Standard Deviation Values: 1.369536736833129
Object ID Field: objectid
Fields:
-
objectid
(
alias: objectid, type: esriFieldTypeOID
)
-
name
(
length: 200, alias: name, type: esriFieldTypeString
)
-
minps
(
alias: minps, type: esriFieldTypeDouble
)
-
maxps
(
alias: maxps, type: esriFieldTypeDouble
)
-
lowps
(
alias: lowps, type: esriFieldTypeDouble
)
-
highps
(
alias: highps, type: esriFieldTypeDouble
)
-
category
(
alias: category, type: esriFieldTypeInteger
, Coded Values:
[0: Unknown]
, [1: Primary]
, [2: Overview]
, ...6 more...
)
-
tag
(
length: 100, alias: tag, type: esriFieldTypeString
)
-
groupname
(
length: 100, alias: groupname, type: esriFieldTypeString
)
-
productname
(
length: 100, alias: productname, type: esriFieldTypeString
)
-
centerx
(
alias: centerx, type: esriFieldTypeDouble
)
-
centery
(
alias: centery, type: esriFieldTypeDouble
)
-
zorder
(
alias: zorder, type: esriFieldTypeInteger
)
-
cd_itemname
(
length: 255, alias: Item Name, type: esriFieldTypeString
)
-
cd_itemtype
(
length: 255, alias: Item Type, type: esriFieldTypeString
)
-
bisdatasetid
(
length: 38, alias: BisDatasetId, type: esriFieldTypeGUID
)
-
datatype
(
length: 255, alias: Data Type, type: esriFieldTypeString
, Coded Values:
[ASCII Grid: ASCII Grid]
, [BAG: BAG]
, [CRF: CRF]
, ...18 more...
)
-
percentcoverage
(
alias: Percent Coverage, type: esriFieldTypeDouble
)
-
biscellsize
(
alias: BIS Cell Size, type: esriFieldTypeDouble
)
-
verticalunits
(
length: 255, alias: Vertical Units, type: esriFieldTypeString
, Coded Values:
[Meters: Meters]
, [Feet: Feet]
, [Fathoms: Fathoms]
, ...1 more...
)
-
directionality
(
length: 255, alias: Directionality, type: esriFieldTypeString
, Coded Values:
[Positive Up: Positive Up]
, [Positive Down: Positive Down]
)
-
proxyrasterpath
(
length: 1024, alias: Proxy Raster Path, type: esriFieldTypeString
)
-
minelevation
(
alias: Min Elevation, type: esriFieldTypeDouble
)
-
maxelevation
(
alias: Max Elevation, type: esriFieldTypeDouble
)
-
depthfield
(
length: 255, alias: Depth Field, type: esriFieldTypeString
)
-
cellsize
(
alias: CellSize, type: esriFieldTypeDouble
)
-
shape
(
alias: shape, type: esriFieldTypeGeometry
)
Default Mosaic Method: LockRaster
Allowed Mosaic Methods: LockRaster,NorthWest,Center,ByAttribute,Nadir,Viewpoint,Seamline,None
SortField:
SortValue: N/A
Mosaic Operator: Mean
Default Compression Quality: 75
Default Resampling Method: Bilinear
Max Record Count: 1000
Max Image Height: 4100
Max Image Width: 15000
Max Download Image Count: 20
Max Mosaic Image Count: 42
Allow Raster Function: true
Allow Copy: true
Allow Analysis: true
Allow Compute TiePoints: false
Supports Statistics: true
Supports Advanced Queries: true
Use StandardizedQueries: true
Raster Type Infos:
Name: Raster Dataset
Description: Supports all ArcGIS Raster Datasets
Help:
Has Raster Attribute Table: false
Edit Fields Info: N/A
Ownership Based AccessControl For Rasters: N/A
Child Resources:
Info
Histograms
Statistics
Key Properties
Legend
Raster Function Infos
Supported Operations:
Export Image
Query
Identify
Measure
Compute Histograms
Compute Statistics Histograms
Get Samples
Compute Class Statistics
Query GPS Info
Find Images
Image to Map
Map to Image
Measure from Image
Image to Map Multiray
Query Boundary
Compute Pixel Location
Compute Angles
Validate
Project