View In:
ArcGIS JavaScript
ArcGIS Online Map Viewer
ArcGIS Earth
Service Description: ETCOG/ETCOG24_NC_6in
Name: ETCOG/ETCOG24_NC_6in
Description:
Single Fused Map Cache: false
Extent:
XMin: -1.06955300051E7
YMin: 3687487.217277697
XMax: -1.0465568308075741E7
YMax: 3905855.518299997
Spatial Reference: 102100
(3857)
Initial Extent:
XMin: -1.06955300051E7
YMin: 3687487.217277697
XMax: -1.0465568308075741E7
YMax: 3905855.518299997
Spatial Reference: 102100
(3857)
Full Extent:
XMin: -1.06955300051E7
YMin: 3687487.217277697
XMax: -1.0465568308075741E7
YMax: 3905855.518299997
Spatial Reference: 102100
(3857)
Pixel Size X: 0.15240030499999982
Pixel Size Y: 0.152400305
Band Count: 3
Pixel Type: U8
RasterFunction Infos: {"rasterFunctionInfos": [
{
"help": "",
"name": "None",
"description": "Make a Raster or Raster Dataset into a Function Raster Dataset."
},
{
"help": "",
"name": "None",
"description": "Make a Raster or Raster Dataset into a Function Raster Dataset."
}
]}
Mensuration Capabilities: None
Inspection Capabilities:
Has Histograms: true
Has Colormap: false
Has Multi Dimensions : false
Rendering Rule:
Min Scale: 0
Max Scale: 0
Copyright Text:
Service Data Type: esriImageServiceDataTypeRGB
Min Values: 5, 10, 26
Max Values: 254, 244, 247
Mean Values: 110.29062535449265, 102.11502211995072, 89.422249590821195
Standard Deviation Values: 27.118521686849416, 22.684997171119534, 14.874985665816926
Object ID Field: objectid
Fields:
-
objectid
(
alias: objectid, type: esriFieldTypeOID
)
-
name
(
length: 200, alias: name, type: esriFieldTypeString
)
-
minps
(
alias: minps, type: esriFieldTypeDouble
)
-
maxps
(
alias: maxps, type: esriFieldTypeDouble
)
-
lowps
(
alias: lowps, type: esriFieldTypeDouble
)
-
highps
(
alias: highps, type: esriFieldTypeDouble
)
-
category
(
alias: category, type: esriFieldTypeInteger
, Coded Values:
[0: Unknown]
, [1: Primary]
, [2: Overview]
, ...6 more...
)
-
tag
(
length: 100, alias: tag, type: esriFieldTypeString
)
-
groupname
(
length: 100, alias: groupname, type: esriFieldTypeString
)
-
productname
(
length: 100, alias: productname, type: esriFieldTypeString
)
-
centerx
(
alias: centerx, type: esriFieldTypeDouble
)
-
centery
(
alias: centery, type: esriFieldTypeDouble
)
-
zorder
(
alias: zorder, type: esriFieldTypeInteger
)
-
shape
(
alias: shape, type: esriFieldTypeGeometry
)
-
st_area(shape)
(
alias: st_area(shape), type: esriFieldTypeDouble
)
-
st_perimeter(shape)
(
alias: st_perimeter(shape), type: esriFieldTypeDouble
)
Default Mosaic Method: Northwest
Allowed Mosaic Methods: NorthWest,Center,LockRaster,ByAttribute,Nadir,Viewpoint,Seamline,None
SortField:
SortValue: N/A
Mosaic Operator: First
Default Compression Quality: 75
Default Resampling Method: Bilinear
Max Record Count: 1000
Max Image Height: 4100
Max Image Width: 15000
Max Download Image Count: 20
Max Mosaic Image Count: 20
Allow Raster Function: true
Allow Copy: true
Allow Analysis: true
Allow Compute TiePoints: false
Supports Statistics: true
Supports Advanced Queries: true
Use StandardizedQueries: true
Raster Type Infos:
Name: Raster Dataset
Description: Supports all ArcGIS Raster Datasets
Help:
Has Raster Attribute Table: false
Edit Fields Info: N/A
Ownership Based AccessControl For Rasters: N/A
Child Resources:
Info
Histograms
Statistics
Key Properties
Legend
Raster Function Infos
Supported Operations:
Export Image
Query
Identify
Compute Histograms
Compute Statistics Histograms
Get Samples
Compute Class Statistics
Query GPS Info
Find Images
Image to Map
Map to Image
Measure from Image
Image to Map Multiray
Query Boundary
Compute Pixel Location
Compute Angles
Validate
Project