View In:
ArcGIS JavaScript
ArcGIS Online Map Viewer
ArcGIS Earth
Service Description: The Geologic Atlas of Texas (GAT) is a series of 38 hard copy map sheets depicting surface geology for the entire state of Texas at a scale of 1:250,000. The University of Texas - Bureau of Economic Geology began compiling the Atlas in 1961 under the direction of Dr. Virgil E. Barnes. The effort involved the work of 28 UTBEG geologists, seven cartographers, and several editors, as well as additional geologists from other organizations. The last hardcopy map sheet in the GAT series was published in 1987.
Name: Geologic_Atlas_Texas_250k/Geologic_Atlas_Texas_Collarless
Description: The Geologic Atlas of Texas (GAT) is a series of 38 hard copy map sheets depicting surface geology for the entire state of Texas at a scale of 1:250,000. The University of Texas - Bureau of Economic Geology began compiling the Atlas in 1961 under the direction of Dr. Virgil E. Barnes. The effort involved the work of 28 UTBEG geologists, seven cartographers, and several editors, as well as additional geologists from other organizations. The last hardcopy map sheet in the GAT series was published in 1987.
Single Fused Map Cache: false
Extent:
XMin: -1.18718137394E7
YMin: 2978919.4467636836
XMax: -1.040923198870448E7
YMax: 4439124.456200004
Spatial Reference: 102100
(3857)
Initial Extent:
XMin: -1.18718137394E7
YMin: 2978919.4467636836
XMax: -1.040923198870448E7
YMax: 4439124.456200004
Spatial Reference: 102100
(3857)
Full Extent:
XMin: -1.18718137394E7
YMin: 2978919.4467636836
XMax: -1.040923198870448E7
YMax: 4439124.456200004
Spatial Reference: 102100
(3857)
Pixel Size X: 10.803369359999994
Pixel Size Y: 10.80336936
Band Count: 3
Pixel Type: U8
RasterFunction Infos: {"rasterFunctionInfos": [{
"help": "",
"name": "None",
"description": ""
}]}
Mensuration Capabilities: Basic
Inspection Capabilities:
Has Histograms: true
Has Colormap: false
Has Multi Dimensions : false
Rendering Rule:
Min Scale: 0
Max Scale: 0
Resampling: false
Copyright Text: Texas Geographic Information Office, University of Texas - Bureau of Economic Geology
Service Data Type: esriImageServiceDataTypeRGB
Min Values: 0, 0, 0
Max Values: 255, 255, 255
Mean Values: 149.65507640042412, 133.02750893930531, 99.518214458572785
Standard Deviation Values: 68.854901164472992, 60.878900746172029, 59.574385447956857
Object ID Field: objectid
Fields:
-
objectid
(
alias: OBJECTID, type: esriFieldTypeOID
)
-
name
(
length: 200, alias: Name, type: esriFieldTypeString
)
-
minps
(
alias: MinPS, type: esriFieldTypeDouble
)
-
maxps
(
alias: MaxPS, type: esriFieldTypeDouble
)
-
lowps
(
alias: LowPS, type: esriFieldTypeDouble
)
-
highps
(
alias: HighPS, type: esriFieldTypeDouble
)
-
category
(
alias: Category, type: esriFieldTypeInteger
, Coded Values:
[0: Unknown]
, [1: Primary]
, [2: Overview]
, ...6 more...
)
-
tag
(
length: 100, alias: Tag, type: esriFieldTypeString
)
-
groupname
(
length: 100, alias: GroupName, type: esriFieldTypeString
)
-
productname
(
length: 100, alias: ProductName, type: esriFieldTypeString
)
-
centerx
(
alias: CenterX, type: esriFieldTypeDouble
)
-
centery
(
alias: CenterY, type: esriFieldTypeDouble
)
-
zorder
(
alias: ZOrder, type: esriFieldTypeInteger
)
-
shape
(
alias: Shape, type: esriFieldTypeGeometry
)
Default Mosaic Method: Northwest
Allowed Mosaic Methods: NorthWest,Center,LockRaster,ByAttribute,Nadir,Viewpoint,Seamline,None
SortField:
SortValue: N/A
Mosaic Operator: First
Default Compression Quality: 75
Default Resampling Method: Bilinear
Max Record Count: 1000
Max Image Height: 4100
Max Image Width: 15000
Max Download Image Count: 20
Max Mosaic Image Count: 20
Allow Raster Function: true
Allow Copy: true
Allow Analysis: true
Allow Compute TiePoints: false
Supports Statistics: true
Supports Advanced Queries: true
Use StandardizedQueries: true
Raster Type Infos:
Name: Raster Dataset
Description: Supports all ArcGIS Raster Datasets
Help:
Has Raster Attribute Table: false
Edit Fields Info: N/A
Ownership Based AccessControl For Rasters: N/A
Child Resources:
Info
Histograms
Statistics
Key Properties
Legend
Raster Function Infos
Supported Operations:
Export Image
Query
Identify
Measure
Compute Histograms
Compute Statistics Histograms
Get Samples
Compute Class Statistics
Query GPS Info
Find Images
Image to Map
Map to Image
Measure from Image
Image to Map Multiray
Query Boundary
Compute Pixel Location
Compute Angles
Validate
Project