View In:
ArcGIS JavaScript
ArcGIS Online Map Viewer
ArcGIS Earth
Service Description: The Geologic Atlas of Texas (GAT) is a series of 38 hard copy map sheets depicting surface geology for the entire state of Texas at a scale of 1:250,000. The University of Texas - Bureau of Economic Geology began compiling the Atlas in 1961 under the direction of Dr. Virgil E. Barnes. The effort involved the work of 28 UTBEG geologists, seven cartographers, and several editors, as well as additional geologists from other organizations. The last hardcopy map sheet in the GAT series was published in 1987.
Name: Geologic_Atlas_Texas_250k/dallas_3296a1
Description: The Geologic Atlas of Texas (GAT) is a series of 38 hard copy map sheets depicting surface geology for the entire state of Texas at a scale of 1:250,000. The University of Texas - Bureau of Economic Geology began compiling the Atlas in 1961 under the direction of Dr. Virgil E. Barnes. The effort involved the work of 28 UTBEG geologists, seven cartographers, and several editors, as well as additional geologists from other organizations. The last hardcopy map sheet in the GAT series was published in 1987.
Single Fused Map Cache: false
Extent:
XMin: -98.07725552506666
YMin: 31.724882965289403
XMax: -95.62912951733726
YMax: 33.11417679844016
Spatial Reference: 4326
(4326)
Initial Extent:
XMin: -98.07725552506666
YMin: 31.724882965289403
XMax: -95.62912951733726
YMax: 33.11417679844016
Spatial Reference: 4326
(4326)
Full Extent:
XMin: -98.07725552506666
YMin: 31.724882965289403
XMax: -95.62912951733726
YMax: 33.11417679844016
Spatial Reference: 4326
(4326)
Pixel Size X: 2.2674131774839303E-4
Pixel Size Y: 1.918384193801104E-4
Band Count: 3
Pixel Type: U8
RasterFunction Infos: {"rasterFunctionInfos": [{
"help": "",
"name": "None",
"description": ""
}]}
Mensuration Capabilities: Basic
Inspection Capabilities:
Has Histograms: true
Has Colormap: false
Has Multi Dimensions : false
Rendering Rule:
Min Scale: 0
Max Scale: 0
Resampling: false
Copyright Text: Texas Geographic Information Office, University of Texas - Bureau of Economic Geology
Service Data Type: esriImageServiceDataTypeRGB
Min Values: 0, 0, 0
Max Values: 255, 255, 255
Mean Values: 205.21223317919001, 215.18445653320001, 186.44608840036
Standard Deviation Values: 60.567505929284003, 49.002445793387999, 63.319952773680001
Object ID Field:
Fields:
None
Default Mosaic Method: Center
Allowed Mosaic Methods:
SortField:
SortValue: N/A
Mosaic Operator: First
Default Compression Quality: 75
Default Resampling Method: Bilinear
Max Record Count: null
Max Image Height: 4100
Max Image Width: 15000
Max Download Image Count: null
Max Mosaic Image Count: null
Allow Raster Function: true
Allow Copy: true
Allow Analysis: true
Allow Compute TiePoints: false
Supports Statistics: false
Supports Advanced Queries: false
Use StandardizedQueries: false
Raster Type Infos:
Name: Raster Dataset
Description: Supports all ArcGIS Raster Datasets
Help:
Has Raster Attribute Table: false
Edit Fields Info: N/A
Ownership Based AccessControl For Rasters: N/A
Child Resources:
Info
Histograms
Statistics
Key Properties
Legend
Raster Function Infos
Supported Operations:
Export Image
Identify
Measure
Compute Histograms
Compute Statistics Histograms
Get Samples
Compute Class Statistics
Query Boundary
Compute Pixel Location
Compute Angles
Validate
Project