View In:
ArcGIS JavaScript
ArcGIS Online Map Viewer
ArcGIS Earth
Service Description: Historic_Imagery/AustinTX_1940_DT_jp2
Name: Historic_Imagery/AustinTX_1940_DT_jp2
Description:
Single Fused Map Cache: false
Extent:
XMin: -1.0886880995466737E7
YMin: 3534225.55275249
XMax: -1.0874859112855248E7
YMax: 3543710.5760016874
Spatial Reference: 102100
(3857)
Initial Extent:
XMin: -1.0886880995466737E7
YMin: 3534225.55275249
XMax: -1.0874859112855248E7
YMax: 3543710.5760016874
Spatial Reference: 102100
(3857)
Full Extent:
XMin: -1.0886880995466737E7
YMin: 3534225.55275249
XMax: -1.0874859112855248E7
YMax: 3543710.5760016874
Spatial Reference: 102100
(3857)
Pixel Size X: 0.6680679417331994
Pixel Size Y: 0.6950771837312975
Band Count: 1
Pixel Type: U16
RasterFunction Infos: {"rasterFunctionInfos": [{
"help": "",
"name": "None",
"description": ""
}]}
Mensuration Capabilities: Basic
Inspection Capabilities:
Has Histograms: true
Has Colormap: false
Has Multi Dimensions : false
Rendering Rule:
Min Scale: 0
Max Scale: 0
Copyright Text:
Service Data Type: esriImageServiceDataTypeGeneric
Min Values: 0
Max Values: 65535
Mean Values: 23835.665466097998
Standard Deviation Values: 12739.765876907
Object ID Field:
Fields:
None
Default Mosaic Method: Center
Allowed Mosaic Methods:
SortField:
SortValue: N/A
Mosaic Operator: First
Default Compression Quality: 75
Default Resampling Method: Bilinear
Max Record Count: null
Max Image Height: 4100
Max Image Width: 15000
Max Download Image Count: null
Max Mosaic Image Count: null
Allow Raster Function: true
Allow Copy: true
Allow Analysis: true
Allow Compute TiePoints: false
Supports Statistics: false
Supports Advanced Queries: false
Use StandardizedQueries: false
Raster Type Infos:
Name: Raster Dataset
Description: Supports all ArcGIS Raster Datasets
Help:
Has Raster Attribute Table: false
Edit Fields Info: N/A
Ownership Based AccessControl For Rasters: N/A
Child Resources:
Info
Histograms
Statistics
Key Properties
Legend
Raster Function Infos
Supported Operations:
Export Image
Identify
Measure
Compute Histograms
Compute Statistics Histograms
Get Samples
Compute Class Statistics
Query Boundary
Compute Pixel Location
Compute Angles
Validate
Project