View In:
ArcGIS JavaScript
ArcGIS Online Map Viewer
ArcGIS Earth
Service Description: Black and White Imagery from TXDOT for for Bexar County 1977
Name: Historic_Imagery/Bexar_TxDOT_1977
Description: Black and White Imagery from TXDOT for for Bexar County 1977
Single Fused Map Cache: false
Extent:
XMin: 517473.0367368058
YMin: 3220649.180740653
XMax: 586150.0367368058
YMax: 3293424.180740653
Spatial Reference: 26914
(26914)
Initial Extent:
XMin: 517473.0367368058
YMin: 3220649.180740653
XMax: 586150.0367368058
YMax: 3293424.180740653
Spatial Reference: 26914
(26914)
Full Extent:
XMin: 517473.0367368058
YMin: 3220649.180740653
XMax: 586150.0367368058
YMax: 3293424.180740653
Spatial Reference: 26914
(26914)
Pixel Size X: 1.0
Pixel Size Y: 1.0
Band Count: 1
Pixel Type: U8
RasterFunction Infos: {"rasterFunctionInfos": [{
"help": "",
"name": "None",
"description": ""
}]}
Mensuration Capabilities: Basic
Inspection Capabilities:
Has Histograms: true
Has Colormap: false
Has Multi Dimensions : false
Rendering Rule:
Min Scale: 0
Max Scale: 0
Resampling: false
Copyright Text: Texas Geographic Information Office, TxDOT
Service Data Type: esriImageServiceDataTypeGeneric
Min Values: 1
Max Values: 209
Mean Values: 110.44782698676001
Standard Deviation Values: 39.558615558816001
Object ID Field:
Fields:
None
Default Mosaic Method: Center
Allowed Mosaic Methods:
SortField:
SortValue: N/A
Mosaic Operator: First
Default Compression Quality: 75
Default Resampling Method: Bilinear
Max Record Count: null
Max Image Height: 4100
Max Image Width: 15000
Max Download Image Count: null
Max Mosaic Image Count: null
Allow Raster Function: true
Allow Copy: true
Allow Analysis: true
Allow Compute TiePoints: false
Supports Statistics: false
Supports Advanced Queries: false
Use StandardizedQueries: false
Raster Type Infos:
Name: Raster Dataset
Description: Supports all ArcGIS Raster Datasets
Help:
Has Raster Attribute Table: true
Edit Fields Info: N/A
Ownership Based AccessControl For Rasters: N/A
Child Resources:
Info
Raster Attribute Table
Histograms
Statistics
Key Properties
Legend
Raster Function Infos
Supported Operations:
Export Image
Identify
Measure
Compute Histograms
Compute Statistics Histograms
Get Samples
Compute Class Statistics
Query Boundary
Compute Pixel Location
Compute Angles
Validate
Project