View In:
ArcGIS JavaScript
ArcGIS Online Map Viewer
ArcGIS Earth
Service Description: Black and White Imagery from USDA for Chambers County 1970
Name: Historic_Imagery/Chambers_USDA_1970
Description: Black and White Imagery from USDA for Chambers County 1970
Single Fused Map Cache: false
Extent:
XMin: 306291.2951481818
YMin: 3264092.267009151
XMax: 371557.2951481818
YMax: 3313620.267009151
Spatial Reference: 26915
(26915)
Initial Extent:
XMin: 306291.2951481818
YMin: 3264092.267009151
XMax: 371557.2951481818
YMax: 3313620.267009151
Spatial Reference: 26915
(26915)
Full Extent:
XMin: 306291.2951481818
YMin: 3264092.267009151
XMax: 371557.2951481818
YMax: 3313620.267009151
Spatial Reference: 26915
(26915)
Pixel Size X: 1.0
Pixel Size Y: 1.0
Band Count: 1
Pixel Type: U8
RasterFunction Infos: {"rasterFunctionInfos": [{
"help": "",
"name": "None",
"description": ""
}]}
Mensuration Capabilities: Basic
Inspection Capabilities:
Has Histograms: true
Has Colormap: false
Has Multi Dimensions : false
Rendering Rule:
Min Scale: 0
Max Scale: 0
Resampling: false
Copyright Text: Texas Geographic Information Office, USDA
Service Data Type: esriImageServiceDataTypeGeneric
Min Values: 1
Max Values: 231
Mean Values: 130.78407281982001
Standard Deviation Values: 47.215233078436
Object ID Field:
Fields:
None
Default Mosaic Method: Center
Allowed Mosaic Methods:
SortField:
SortValue: N/A
Mosaic Operator: First
Default Compression Quality: 75
Default Resampling Method: Bilinear
Max Record Count: null
Max Image Height: 4100
Max Image Width: 15000
Max Download Image Count: null
Max Mosaic Image Count: null
Allow Raster Function: true
Allow Copy: true
Allow Analysis: true
Allow Compute TiePoints: false
Supports Statistics: false
Supports Advanced Queries: false
Use StandardizedQueries: false
Raster Type Infos:
Name: Raster Dataset
Description: Supports all ArcGIS Raster Datasets
Help:
Has Raster Attribute Table: true
Edit Fields Info: N/A
Ownership Based AccessControl For Rasters: N/A
Child Resources:
Info
Raster Attribute Table
Histograms
Statistics
Key Properties
Legend
Raster Function Infos
Supported Operations:
Export Image
Identify
Measure
Compute Histograms
Compute Statistics Histograms
Get Samples
Compute Class Statistics
Query Boundary
Compute Pixel Location
Compute Angles
Validate
Project