View In:
ArcGIS JavaScript
ArcGIS Online Map Viewer
ArcGIS Earth
Service Description: Black and White Imagery from TXDOT for Victoria County 1987
Name: Historic_Imagery/Victoria_TxDOT_1987
Description: Black and White Imagery from TXDOT for Victoria County 1987
Single Fused Map Cache: false
Extent:
XMin: 663933.5966283587
YMin: 3147535.871872273
XMax: 734109.5966283587
YMax: 3226086.871872273
Spatial Reference: 26914
(26914)
Initial Extent:
XMin: 663933.5966283587
YMin: 3147535.871872273
XMax: 734109.5966283587
YMax: 3226086.871872273
Spatial Reference: 26914
(26914)
Full Extent:
XMin: 663933.5966283587
YMin: 3147535.871872273
XMax: 734109.5966283587
YMax: 3226086.871872273
Spatial Reference: 26914
(26914)
Pixel Size X: 1.0
Pixel Size Y: 1.0
Band Count: 1
Pixel Type: U8
RasterFunction Infos: {"rasterFunctionInfos": [{
"help": "",
"name": "None",
"description": ""
}]}
Mensuration Capabilities: Basic
Inspection Capabilities:
Has Histograms: true
Has Colormap: false
Has Multi Dimensions : false
Rendering Rule:
Min Scale: 0
Max Scale: 0
Resampling: false
Copyright Text: Texas Geographic Information Office, TxDOT
Service Data Type: esriImageServiceDataTypeGeneric
Min Values: 1
Max Values: 237
Mean Values: 116.22757307720001
Standard Deviation Values: 43.291468938325998
Object ID Field:
Fields:
None
Default Mosaic Method: Center
Allowed Mosaic Methods:
SortField:
SortValue: N/A
Mosaic Operator: First
Default Compression Quality: 75
Default Resampling Method: Bilinear
Max Record Count: null
Max Image Height: 4100
Max Image Width: 15000
Max Download Image Count: null
Max Mosaic Image Count: null
Allow Raster Function: true
Allow Copy: true
Allow Analysis: true
Allow Compute TiePoints: false
Supports Statistics: false
Supports Advanced Queries: false
Use StandardizedQueries: false
Raster Type Infos:
Name: Raster Dataset
Description: Supports all ArcGIS Raster Datasets
Help:
Has Raster Attribute Table: true
Edit Fields Info: N/A
Ownership Based AccessControl For Rasters: N/A
Child Resources:
Info
Raster Attribute Table
Histograms
Statistics
Key Properties
Legend
Raster Function Infos
Supported Operations:
Export Image
Identify
Measure
Compute Histograms
Compute Statistics Histograms
Get Samples
Compute Class Statistics
Query Boundary
Compute Pixel Location
Compute Angles
Validate
Project