View In:
ArcGIS JavaScript
ArcGIS Online Map Viewer
ArcGIS Earth
Service Description: The National High-Altitude Photography (NHAP) program was coordinated by the USGS as an interagency project to acquire cloud-free aerial photographs at an altitude of 40,000 feet above mean terrain elevation. Two different camera systems were used to obtain simultaneous coverage of black-and-white (BW) and color infrared (CIR) aerial photographs over the conterminous United States. The color-infrared photographs were taken with an 8.25-inch focal length lens and are at a scale of 1:58,000. The black-and-white photographs were taken with a 6-inch focal length lens and are at a scale of 1:80,000. The NHAP program, which was operational from 1980 to 1989, consists of approximately 500,000 images. Photographs were acquired on 9-inch film and centered over USGS 7.5-minute quadrangles.
Name: NHAP/NHAP81_CIR_75cm
Description: The National High-Altitude Photography (NHAP) program was coordinated by the USGS as an interagency project to acquire cloud-free aerial photographs at an altitude of 40,000 feet above mean terrain elevation. Two different camera systems were used to obtain simultaneous coverage of black-and-white (BW) and color infrared (CIR) aerial photographs over the conterminous United States. The color-infrared photographs were taken with an 8.25-inch focal length lens and are at a scale of 1:58,000. The black-and-white photographs were taken with a 6-inch focal length lens and are at a scale of 1:80,000. The NHAP program, which was operational from 1980 to 1989, consists of approximately 500,000 images. Photographs were acquired on 9-inch film and centered over USGS 7.5-minute quadrangles.
Single Fused Map Cache: false
Extent:
XMin: -1.18837442333E7
YMin: 2967870.653300002
XMax: -1.04220782333E7
YMax: 4370200.403300002
Spatial Reference: 102100
(3857)
Initial Extent:
XMin: -1.18837442333E7
YMin: 2967870.653300002
XMax: -1.04220782333E7
YMax: 4370200.403300002
Spatial Reference: 102100
(3857)
Full Extent:
XMin: -1.18837442333E7
YMin: 2967870.653300002
XMax: -1.04220782333E7
YMax: 4370200.403300002
Spatial Reference: 102100
(3857)
Pixel Size X: 0.75
Pixel Size Y: 0.75
Band Count: 3
Pixel Type: U8
RasterFunction Infos: {"rasterFunctionInfos": [{
"help": "",
"name": "None",
"description": "Make a Raster or Raster Dataset into a Function Raster Dataset."
}]}
Mensuration Capabilities: None
Inspection Capabilities:
Has Histograms: true
Has Colormap: false
Has Multi Dimensions : false
Rendering Rule:
Min Scale: 0
Max Scale: 0
Resampling: false
Copyright Text: Texas Geographic Information Office, USGS, NHAP
Service Data Type: esriImageServiceDataTypeRGB
Min Values: 0, 0, 0
Max Values: 255, 255, 255
Mean Values: 106.75241802166126, 121.00024056847856, 128.8633015865218
Standard Deviation Values: 25.201729408621194, 23.58313026359372, 25.823886281911964
Object ID Field: objectid
Fields:
-
objectid
(
alias: OBJECTID, type: esriFieldTypeOID
)
-
name
(
length: 200, alias: Name, type: esriFieldTypeString
)
-
minps
(
alias: MinPS, type: esriFieldTypeDouble
)
-
maxps
(
alias: MaxPS, type: esriFieldTypeDouble
)
-
lowps
(
alias: LowPS, type: esriFieldTypeDouble
)
-
highps
(
alias: HighPS, type: esriFieldTypeDouble
)
-
category
(
alias: Category, type: esriFieldTypeInteger
, Coded Values:
[0: Unknown]
, [1: Primary]
, [2: Overview]
, ...6 more...
)
-
tag
(
length: 100, alias: Tag, type: esriFieldTypeString
)
-
groupname
(
length: 100, alias: GroupName, type: esriFieldTypeString
)
-
productname
(
length: 100, alias: ProductName, type: esriFieldTypeString
)
-
centerx
(
alias: CenterX, type: esriFieldTypeDouble
)
-
centery
(
alias: CenterY, type: esriFieldTypeDouble
)
-
zorder
(
alias: ZOrder, type: esriFieldTypeInteger
)
-
shape
(
alias: Shape, type: esriFieldTypeGeometry
)
Default Mosaic Method: Northwest
Allowed Mosaic Methods: NorthWest,Center,LockRaster,ByAttribute,Nadir,Viewpoint,Seamline,None
SortField:
SortValue: N/A
Mosaic Operator: First
Default Compression Quality: 75
Default Resampling Method: Bilinear
Max Record Count: 1000
Max Image Height: 4100
Max Image Width: 15000
Max Download Image Count: 20
Max Mosaic Image Count: 43
Allow Raster Function: true
Allow Copy: true
Allow Analysis: true
Allow Compute TiePoints: false
Supports Statistics: true
Supports Advanced Queries: true
Use StandardizedQueries: true
Raster Type Infos:
Name: Raster Dataset
Description: Supports all ArcGIS Raster Datasets
Help:
Has Raster Attribute Table: false
Edit Fields Info: N/A
Ownership Based AccessControl For Rasters: N/A
Child Resources:
Info
Histograms
Statistics
Key Properties
Legend
Raster Function Infos
Supported Operations:
Export Image
Query
Identify
Compute Histograms
Compute Statistics Histograms
Get Samples
Compute Class Statistics
Query GPS Info
Find Images
Image to Map
Map to Image
Measure from Image
Image to Map Multiray
Query Boundary
Compute Pixel Location
Compute Angles
Validate
Project