View In:
ArcGIS JavaScript
ArcGIS Online Map Viewer
ArcGIS Earth
Service Description: The Smith County GIS Consortium 2020 6-inch Digital aerial imagery was acquired, processed to orthophotography and delivered to display approximately 1,104 square miles of the greater countywide area. The Smith County area orthoimagery delivery includes 1,104 Quarter-Quarter Quads (DO4Qs) uncompressed GeoTIFF tiles and 1,104 DO4Q compressed JPEG2000 tiles and 1,104 DO4Q ECW tiles, countywide JPEG2000 and ECW mosaics along with supporting files. The aerial imagery for the entire countywide project area was collected and processed exclusively by Surdex Corporation. The Statement of Work is issued by the Smith County GIS Consortium to acquire leaf-off high resolution 6-inch orthoimagery and associated products from an airborne digital camera system.
Name: Smith_County/SmithCo_2020_NCCIR_6in
Description: The Smith County GIS Consortium 2020 6-inch Digital aerial imagery was acquired, processed to orthophotography and delivered to display approximately 1,104 square miles of the greater countywide area. The Smith County area orthoimagery delivery includes 1,104 Quarter-Quarter Quads (DO4Qs) uncompressed GeoTIFF tiles and 1,104 DO4Q compressed JPEG2000 tiles and 1,104 DO4Q ECW tiles, countywide JPEG2000 and ECW mosaics along with supporting files. The aerial imagery for the entire countywide project area was collected and processed exclusively by Surdex Corporation. The Statement of Work is issued by the Smith County GIS Consortium to acquire leaf-off high resolution 6-inch orthoimagery and associated products from an airborne digital camera system.
Single Fused Map Cache: false
Extent:
XMin: -1.06433558097E7
YMin: 3777512.0069483034
XMax: -1.05682137749829E7
YMax: 3856126.0253000036
Spatial Reference: 102100
(3857)
Initial Extent:
XMin: -1.06433558097E7
YMin: 3777512.0069483034
XMax: -1.05682137749829E7
YMax: 3856126.0253000036
Spatial Reference: 102100
(3857)
Full Extent:
XMin: -1.06433558097E7
YMin: 3777512.0069483034
XMax: -1.05682137749829E7
YMax: 3856126.0253000036
Spatial Reference: 102100
(3857)
Pixel Size X: 0.15240029999999946
Pixel Size Y: 0.1524003000000003
Band Count: 4
Pixel Type: U8
RasterFunction Infos: {"rasterFunctionInfos": [{
"help": "",
"name": "None",
"description": ""
}]}
Mensuration Capabilities: None
Inspection Capabilities:
Has Histograms: true
Has Colormap: false
Has Multi Dimensions : false
Rendering Rule:
Min Scale: 0
Max Scale: 0
Resampling: false
Copyright Text: Texas Geographic Information Office, Smith County 911 District
Service Data Type: esriImageServiceDataTypeGeneric
Min Values: 20, 21, 30, 2
Max Values: 237, 238, 242, 231
Mean Values: 101.41636805524529, 98.61075445694425, 85.167142370216055, 121.73512944767968
Standard Deviation Values: 32.167844131038208, 28.279225824656471, 24.864262962241764, 31.123179186082606
Object ID Field: objectid
Fields:
-
objectid
(
alias: OBJECTID, type: esriFieldTypeOID
)
-
name
(
length: 200, alias: Name, type: esriFieldTypeString
)
-
minps
(
alias: MinPS, type: esriFieldTypeDouble
)
-
maxps
(
alias: MaxPS, type: esriFieldTypeDouble
)
-
lowps
(
alias: LowPS, type: esriFieldTypeDouble
)
-
highps
(
alias: HighPS, type: esriFieldTypeDouble
)
-
category
(
alias: Category, type: esriFieldTypeInteger
, Coded Values:
[0: Unknown]
, [1: Primary]
, [2: Overview]
, ...6 more...
)
-
tag
(
length: 100, alias: Tag, type: esriFieldTypeString
)
-
groupname
(
length: 100, alias: GroupName, type: esriFieldTypeString
)
-
productname
(
length: 100, alias: ProductName, type: esriFieldTypeString
)
-
centerx
(
alias: CenterX, type: esriFieldTypeDouble
)
-
centery
(
alias: CenterY, type: esriFieldTypeDouble
)
-
zorder
(
alias: ZOrder, type: esriFieldTypeInteger
)
-
shape
(
alias: Shape, type: esriFieldTypeGeometry
)
Default Mosaic Method: Northwest
Allowed Mosaic Methods: NorthWest,Center,LockRaster,ByAttribute,Nadir,Viewpoint,Seamline,None
SortField:
SortValue: N/A
Mosaic Operator: First
Default Compression Quality: 75
Default Resampling Method: Bilinear
Max Record Count: 1000
Max Image Height: 4100
Max Image Width: 15000
Max Download Image Count: 20
Max Mosaic Image Count: 20
Allow Raster Function: true
Allow Copy: true
Allow Analysis: true
Allow Compute TiePoints: false
Supports Statistics: true
Supports Advanced Queries: true
Use StandardizedQueries: true
Raster Type Infos:
Name: Raster Dataset
Description: Supports all ArcGIS Raster Datasets
Help:
Has Raster Attribute Table: false
Edit Fields Info: N/A
Ownership Based AccessControl For Rasters: N/A
Child Resources:
Info
Histograms
Statistics
Key Properties
Legend
Raster Function Infos
Supported Operations:
Export Image
Query
Identify
Compute Histograms
Compute Statistics Histograms
Get Samples
Compute Class Statistics
Query GPS Info
Find Images
Image to Map
Map to Image
Measure from Image
Image to Map Multiray
Query Boundary
Compute Pixel Location
Compute Angles
Validate
Project