View In:
ArcGIS JavaScript
ArcGIS Online Map Viewer
ArcGIS Earth
Service Description: This orthoimagery dataset was acquired by the National Agriculture Imagery Program (NAIP) during the 2018 agricultural growing season and through the winter and spring of 2019 (May 2018 - April 2019), resulting in a mix of leaf-on/leaf-off conditions statewide in Texas. The entire dataset is available at 60-cm (2-foot) pixel resolution. This pixel resolution allows the user to identify features on the ground such as sheds, helipad markings, driveways, car ports, medians, and bike lanes. The entire dataset is available as a 4-band (RGBIR) product which allows the user to display the imagery in natural color (RGB) or color infrared (IRRG). Flight date is in each filename as YYYYMMDD, and each image tile covers one-4th of a USGS Digital Orthophoto Quad (DOQ), resulting in a DOQQ or approximately 16 square miles with minimum 300-meter buffers. All individual tile images are rectified in the UTM coordinate system, NAD 83, and cast into a single predetermined UTM zone.
NAIP is administered by the USDA's Farm Service Agency (FSA) through the Aerial Photography Field Office (APFO) in Salt Lake City, Utah. The program was established to support FSA's strategic goals centered on agricultural production. The orthoimagery are used as a base layer for GIS programs in FSA's County Service Centers including maintenance of the Common Land Unit (CLU) boundaries. However, there are many other potential uses and applications of NAIP data as a statewide base layer of imagery in Texas. NAIP imagery are used for a wide variety of purposes throughout the state including land use planning, natural resource assessment, energy production, transportation, emergency management, ecology, air quality monitoring, etc. NAIP acquisitions in Texas are contracted based on available funding and the FSA imagery acquisition cycle. Since 2008, NAIP statewide imagery have been acquired for Texas on a 2-year cycle. This refresh rate allows the user to conduct change detection studies that can be used to monitor climate patterns such as drought or to show the rate of manmade growth on the fringes of urban development.
Name: NAIP/NAIP18_NCCIR_60cm
Description: This orthoimagery dataset was acquired by the National Agriculture Imagery Program (NAIP) during the 2018 agricultural growing season and through the winter and spring of 2019 (May 2018 - April 2019), resulting in a mix of leaf-on/leaf-off conditions statewide in Texas. The entire dataset is available at 60-cm (2-foot) pixel resolution. This pixel resolution allows the user to identify features on the ground such as sheds, helipad markings, driveways, car ports, medians, and bike lanes. The entire dataset is available as a 4-band (RGBIR) product which allows the user to display the imagery in natural color (RGB) or color infrared (IRRG). Flight date is in each filename as YYYYMMDD, and each image tile covers one-4th of a USGS Digital Orthophoto Quad (DOQ), resulting in a DOQQ or approximately 16 square miles with minimum 300-meter buffers. All individual tile images are rectified in the UTM coordinate system, NAD 83, and cast into a single predetermined UTM zone.
NAIP is administered by the USDA's Farm Service Agency (FSA) through the Aerial Photography Field Office (APFO) in Salt Lake City, Utah. The program was established to support FSA's strategic goals centered on agricultural production. The orthoimagery are used as a base layer for GIS programs in FSA's County Service Centers including maintenance of the Common Land Unit (CLU) boundaries. However, there are many other potential uses and applications of NAIP data as a statewide base layer of imagery in Texas. NAIP imagery are used for a wide variety of purposes throughout the state including land use planning, natural resource assessment, energy production, transportation, emergency management, ecology, air quality monitoring, etc. NAIP acquisitions in Texas are contracted based on available funding and the FSA imagery acquisition cycle. Since 2008, NAIP statewide imagery have been acquired for Texas on a 2-year cycle. This refresh rate allows the user to conduct change detection studies that can be used to monitor climate patterns such as drought or to show the rate of manmade growth on the fringes of urban development.
Single Fused Map Cache: false
Extent:
XMin: -1.18767064633E7
YMin: 3006553.0530000017
XMax: -1.0408154863300001E7
YMax: 4378713.453000002
Spatial Reference: 102100
(3857)
Initial Extent:
XMin: -1.18767064633E7
YMin: 3006553.0530000017
XMax: -1.0408154863300001E7
YMax: 4378713.453000002
Spatial Reference: 102100
(3857)
Full Extent:
XMin: -1.18767064633E7
YMin: 3006553.0530000017
XMax: -1.0408154863300001E7
YMax: 4378713.453000002
Spatial Reference: 102100
(3857)
Pixel Size X: 0.5999999999999999
Pixel Size Y: 0.6
Band Count: 4
Pixel Type: U8
RasterFunction Infos: {"rasterFunctionInfos": [{
"help": "",
"name": "None",
"description": ""
}]}
Mensuration Capabilities:
Inspection Capabilities:
Has Histograms: true
Has Colormap: false
Has Multi Dimensions : false
Rendering Rule:
Min Scale: 0
Max Scale: 0
Resampling: false
Copyright Text: Texas Geographic Information Office, USDA
Service Data Type: esriImageServiceDataTypeGeneric
Min Values: 0, 0, 0, 0
Max Values: 212, 211, 210, 225
Mean Values: 106.89193975323577, 108.08973784102872, 91.275976716262704, 136.1334950603721
Standard Deviation Values: 30.080602631536067, 22.531132487092609, 19.666546942141178, 25.032030663935963
Object ID Field: objectid
Fields:
-
objectid
(
alias: OBJECTID, type: esriFieldTypeOID
)
-
name
(
length: 200, alias: Name, type: esriFieldTypeString
)
-
minps
(
alias: MinPS, type: esriFieldTypeDouble
)
-
maxps
(
alias: MaxPS, type: esriFieldTypeDouble
)
-
lowps
(
alias: LowPS, type: esriFieldTypeDouble
)
-
highps
(
alias: HighPS, type: esriFieldTypeDouble
)
-
category
(
alias: Category, type: esriFieldTypeInteger
, Coded Values:
[0: Unknown]
, [1: Primary]
, [2: Overview]
, ...6 more...
)
-
tag
(
length: 100, alias: Tag, type: esriFieldTypeString
)
-
groupname
(
length: 100, alias: GroupName, type: esriFieldTypeString
)
-
productname
(
length: 100, alias: ProductName, type: esriFieldTypeString
)
-
centerx
(
alias: CenterX, type: esriFieldTypeDouble
)
-
centery
(
alias: CenterY, type: esriFieldTypeDouble
)
-
zorder
(
alias: ZOrder, type: esriFieldTypeInteger
)
-
shape
(
alias: Shape, type: esriFieldTypeGeometry
)
Default Mosaic Method: Northwest
Allowed Mosaic Methods: NorthWest,Center,LockRaster,ByAttribute,Nadir,Viewpoint,Seamline,None
SortField:
SortValue: N/A
Mosaic Operator: First
Default Compression Quality: 75
Default Resampling Method: Bilinear
Max Record Count: 1000
Max Image Height: 4100
Max Image Width: 15000
Max Download Image Count: 20
Max Mosaic Image Count: 20
Allow Raster Function: true
Allow Copy: true
Allow Analysis: true
Allow Compute TiePoints: false
Supports Statistics: true
Supports Advanced Queries: true
Use StandardizedQueries: true
Raster Type Infos:
Name: Raster Dataset
Description: Supports all ArcGIS Raster Datasets
Help:
Has Raster Attribute Table: false
Edit Fields Info: N/A
Ownership Based AccessControl For Rasters: N/A
Child Resources:
Info
Histograms
Statistics
Key Properties
Legend
Raster Function Infos
Supported Operations:
Export Image
Query
Identify
Measure
Compute Histograms
Compute Statistics Histograms
Get Samples
Compute Class Statistics
Query GPS Info
Find Images
Image to Map
Map to Image
Measure from Image
Image to Map Multiray
Query Boundary
Compute Pixel Location
Compute Angles
Validate
Project